BEGIN:VCALENDAR
VERSION:2.0
PRODID:-//ChamberMaster//Event Calendar 2.0//EN
METHOD:PUBLISH
X-PUBLISHED-TTL:P3D
REFRESH-INTERVAL:P3D
CALSCALE:GREGORIAN
BEGIN:VEVENT
DTSTART:20160605T210000Z
DTEND:20160606T000000Z
X-MICROSOFT-CDO-ALLDAYEVENT:FALSE
SUMMARY:13th Annual Pinot & Paella Festival
DESCRIPTION:Join the Paso Pinot Producers and Central Coast's Best Chefs for an afternoon of great wine\, creative Paella dishes\, and dancing to the live Latin guitar world fusion beats of Incendio. Sunday\, June 5\, 2015 from 2-5pm. Pinot Noir\, In Paso Robles? Absolutely! Experience why Paso Pinot is gaining ever-increasing recognition. Taste Pinot Noir from 20 different producers. Mingle with the winemakers and discover how the sense of place is reflected in each glass of their Pinot Noir. Savor taste unique Paella dishes from 15 talented local chefs\, and vote for your favorite! The festivities all take place in the Templeton Community Park under the shade of the oak trees. Lawn chairs and blankets are encouraged! Proceeds benefit Youth Arts Programs in San Luis Obispo County.
X-ALT-DESC;FMTTYPE=text/html:Join the Paso Pinot Producers and Central Coast&#39\;s Best Chefs for an afternoon of great wine\, creative Paella dishes\, and dancing to the live Latin guitar world fusion beats of Incendio. Sunday\, June 5\, 2015 from 2-5pm. Pinot Noir\, In Paso Robles? Absolutely! Experience why Paso Pinot is gaining ever-increasing recognition. Taste Pinot Noir from 20 different producers. Mingle with the winemakers and discover how the sense of place is reflected in each glass of their Pinot Noir. Savor taste unique Paella dishes from 15 talented local chefs\, and vote for your favorite! The festivities all take place in the Templeton Community Park under the shade of the oak trees. Lawn chairs and blankets are encouraged! Proceeds benefit Youth Arts Programs in San Luis Obispo County.
LOCATION:Templeton City Park 550 Crocker St. Templeton\, CA 93465
UID:e.2488.4771
SEQUENCE:3
DTSTAMP:20260424T133610Z
URL:https://business.pasorobleschamber.com/events/details/13th-annual-pinot-paella-festival-06-05-2016-4771
END:VEVENT

END:VCALENDAR
