BEGIN:VCALENDAR
VERSION:2.0
PRODID:-//ChamberMaster//Event Calendar 2.0//EN
METHOD:PUBLISH
X-PUBLISHED-TTL:P3D
REFRESH-INTERVAL:P3D
CALSCALE:GREGORIAN
BEGIN:VEVENT
DTSTART:20160814T010000Z
DTEND:20160814T040000Z
X-MICROSOFT-CDO-ALLDAYEVENT:FALSE
SUMMARY:18th Annual Paso Robles Rotary Winemakers' Cookoff
DESCRIPTION:Don't miss Paso Robles wine country's most popular event! The 18th annual Paso Robles Rotary Winemakers' Cookoff includes 30 wineries that will serve gourmet food straight off the grill and pair their creations with outstanding wines. Brews and spirits will be represented as well! Vote for your favorites and join in the fun!  Money raised goes to the Harlow Ford Scholarship Fund which provides college scholarships to local high school seniors.
X-ALT-DESC;FMTTYPE=text/html:Don&#39\;t miss Paso Robles wine country&#39\;s most popular event! The 18th annual Paso Robles Rotary Winemakers&#39\; Cookoff includes 30 wineries that will serve gourmet food straight off the grill and pair their creations with outstanding wines.&nbsp\;Brews and spirits will be represented as well! Vote for your favorites and join in the fun!&nbsp\; Money raised goes to the Harlow Ford Scholarship Fund which provides college scholarships to local high school seniors.
LOCATION:Paso Robles Event Center 2198 Riverside Ave. Paso Robles\, CA 93446
UID:e.2488.4775
SEQUENCE:3
DTSTAMP:20260424T103153Z
URL:https://business.pasorobleschamber.com/events/details/18th-annual-paso-robles-rotary-winemakers-cookoff-08-13-2016-4775
END:VEVENT

END:VCALENDAR
