BEGIN:VCALENDAR
VERSION:2.0
PRODID:-//ChamberMaster//Event Calendar 2.0//EN
METHOD:PUBLISH
X-PUBLISHED-TTL:P3D
REFRESH-INTERVAL:P3D
CALSCALE:GREGORIAN
BEGIN:VEVENT
DTSTART:20160221T020000Z
DTEND:20160221T060000Z
X-MICROSOFT-CDO-ALLDAYEVENT:FALSE
SUMMARY:2016 Paso Robles Chamber Annual Gala
DESCRIPTION:Paso Robles Chamber Celebrates 95 Years in Business!\n\nYou are cordially invited to join us at our Annual Inauguration & Awards Gala\n\nSaturday\, February 20\, 2016\n\nPaso Robles Inn Ballroom\n\nReception at 5:30pm\, Dinner at 6:30pm\n\n$100 per ticket\, $1\,100 for a sponsored table of 8\n\nContact the Chamber Office at 805-238-0506 for tickets!\n\nHope to see you there!
X-ALT-DESC;FMTTYPE=text/html:Paso Robles Chamber Celebrates 95 Years in Business!<br />\nYou are cordially invited to join us at our Annual Inauguration &amp\; Awards Gala<br />\nSaturday\, February 20\, 2016<br />\nPaso Robles Inn Ballroom<br />\nReception at 5:30pm\, Dinner at 6:30pm<br />\n$100 per ticket\, $1\,100 for a sponsored table of 8<br />\nContact the Chamber Office at 805-238-0506 for tickets!<br />\nHope to see you there!
LOCATION:Paso Robles Inn Ballroom 1103 Spring Street\, Paso Robles\, CA 93446 Paso Robles Inn is located at 1103 Spring Street (between 11th & 12th Streets\, across from the Downtown City Park). The Ballroom is on the north side of the Inn behind the buildings on Spring Street.
UID:e.2488.4483
SEQUENCE:3
DTSTAMP:20260424T205626Z
URL:https://business.pasorobleschamber.com/events/details/2016-paso-robles-chamber-annual-gala-02-20-2016-4483
END:VEVENT

END:VCALENDAR
