BEGIN:VCALENDAR
VERSION:2.0
PRODID:-//ChamberMaster//Event Calendar 2.0//EN
METHOD:PUBLISH
X-PUBLISHED-TTL:P3D
REFRESH-INTERVAL:P3D
CALSCALE:GREGORIAN
BEGIN:VEVENT
DTSTART:20171126T013000Z
DTEND:20171126T040000Z
X-MICROSOFT-CDO-ALLDAYEVENT:FALSE
SUMMARY:2017 Holiday Lighting Extravaganza and Charity Drive
DESCRIPTION:We will once again be hosting our Holiday Lighting Extravaganza and Charity Drive. This event represents the true spirit of the season\, as we will be raising money for the Paso Robles Youth Arts Foundation (PRYAF). This event is designed to be fun for the whole family and will include over fifty lighting displays\, music from the Cuesta College choir\, special holiday pricing on wine\, a visit from Santa\, as well as much much more!
X-ALT-DESC;FMTTYPE=text/html:<span style="color:rgb(85\, 85\, 85)\; font-family:open sans\,sans-serif\; font-size:14px">We will once again be hosting our Holiday Lighting Extravaganza and Charity Drive. This event represents the true spirit of the season\, as we will be raising money for the Paso Robles Youth Arts Foundation (PRYAF). This event is designed to be fun for the whole family and will include over fifty lighting displays\, music from the Cuesta College choir\, special holiday pricing on wine\, a visit from Santa\, as well as much much more!</span>
LOCATION:
UID:e.2488.6859
SEQUENCE:3
DTSTAMP:20260423T005040Z
URL:https://business.pasorobleschamber.com/events/details/2017-holiday-lighting-extravaganza-and-charity-drive-6859
END:VEVENT

END:VCALENDAR
