BEGIN:VCALENDAR
VERSION:2.0
PRODID:-//ChamberMaster//Event Calendar 2.0//EN
METHOD:PUBLISH
X-PUBLISHED-TTL:P3D
REFRESH-INTERVAL:P3D
CALSCALE:GREGORIAN
BEGIN:VEVENT
DTSTART:20181005T010000Z
DTEND:20181005T040000Z
X-MICROSOFT-CDO-ALLDAYEVENT:FALSE
SUMMARY:2018 Candidate Forum - Paso Robles Mayor & City Council
DESCRIPTION:The Downtown Paso Robles Main Street Association and Paso Robles Chamber of Commerce invite you to join us at the 2018 Candidate Forum to meet the Candidates for Paso Robles Mayor and City Council. Bring your questions and hear their position on key topics that affect our Community. \n\n\n\nChris Williams\, Superintendent of the Paso Robles Joint Unified School District\, will be our Moderator for the evening.
X-ALT-DESC;FMTTYPE=text/html:The Downtown Paso Robles Main Street Association and Paso Robles Chamber of Commerce invite you to join us at the 2018 Candidate Forum to meet the Candidates for Paso Robles Mayor and City Council. Bring your questions and hear their position on key topics that affect our Community.&nbsp\;<br />\n<br />\nChris Williams\, Superintendent of the Paso Robles Joint Unified School District\, will be our Moderator for the evening.&nbsp\;
LOCATION:Paso Robles Elks Lodge 1420 Park Street Paso Robles\, CA 93446
UID:e.2488.9560
SEQUENCE:3
DTSTAMP:20260421T085214Z
URL:https://business.pasorobleschamber.com/events/details/2018-candidate-forum-paso-robles-mayor-city-council-9560
END:VEVENT

END:VCALENDAR
