BEGIN:VCALENDAR
VERSION:2.0
PRODID:-//ChamberMaster//Event Calendar 2.0//EN
METHOD:PUBLISH
X-PUBLISHED-TTL:P3D
REFRESH-INTERVAL:P3D
CALSCALE:GREGORIAN
BEGIN:VEVENT
DTSTART:20181019T170000Z
DTEND:20181021T233000Z
X-MICROSOFT-CDO-ALLDAYEVENT:FALSE
SUMMARY:2018 Harvest Wine Weekend at Mitchella Vineyard & Winery
DESCRIPTION:We invite you to sip\, savor\, and delight in our small lot wines paired with artisan cheeses. Relax on our patio overlooking the rolling hills or take a self-guided vineyard tour while enjoying hand-passed appetizers and new fall releases. Finish with a luxurious Port and Chocolate pairing. Be sure to challenge your friends to a game of Giant Jenga or Cornhole! \n\nWe will be serving appetizers:\n\nBaby Beef Wellington\n\nSourdough Grilled Cheese with Tomato Bisque and Basil\n\nMulti Grain Artisan Bread Avocado Toast\n\nChocolate Dessert\n\n$15 per person\; $5 for children and designated driver. Fee waived with two bottle purchase per person. (No shared tastings on event weekends.) \n\n"Life is an Adventure\, Drink Wine!"
X-ALT-DESC;FMTTYPE=text/html:We invite you to sip\, savor\, and delight in our small lot wines paired with artisan cheeses. Relax on our patio overlooking the rolling hills or take a self-guided vineyard tour while enjoying hand-passed appetizers and new fall releases. Finish with a luxurious Port and Chocolate pairing. Be sure to challenge your friends to a game of Giant Jenga or Cornhole!&nbsp\;<br />\n<em>We will be serving appetizers:</em><br />\nBaby Beef Wellington<br />\nSourdough Grilled Cheese with Tomato Bisque and Basil<br />\nMulti Grain Artisan Bread Avocado Toast<br />\nChocolate Dessert<br />\n<strong>$15 per person\; $5 for children and designated driver. Fee waived with two bottle purchase per person. (</strong><em><strong>No shared tastings on event weekends.)</strong>&nbsp\;<br />\n<span style="font-size:16px">&quot\;Life is an Adventure\, Drink Wine!&quot\;&trade\;</span></em>
LOCATION:2525 Mitchell RanchWay Paso Robles\, CA 93446
UID:e.2488.9443
SEQUENCE:3
DTSTAMP:20260421T085331Z
URL:https://business.pasorobleschamber.com/events/details/2018-harvest-wine-weekend-at-mitchella-vineyard-winery-9443
END:VEVENT

END:VCALENDAR
