BEGIN:VCALENDAR
VERSION:2.0
PRODID:-//ChamberMaster//Event Calendar 2.0//EN
METHOD:PUBLISH
X-PUBLISHED-TTL:P3D
REFRESH-INTERVAL:P3D
CALSCALE:GREGORIAN
BEGIN:VEVENT
DTSTART;VALUE=DATE:20251204
DTEND;VALUE=DATE:20251205
TRANSP:TRANSPARENT
X-MICROSOFT-CDO-ALLDAYEVENT:TRUE
SUMMARY:2025 Templeton Christmas Tree Auction Opportunity Drawing
DESCRIPTION:Get Your Opportunity Drawing Tickets Now!\n\nEnter to win one of these fantastic packages!\n\n**Do not need to be in attendance to win.\n\nTier 1: Win Meat for a Year!\n\nEnter for your chance to win a year's worth of premium cuts from Primal House! The lucky winner will receive a monthly shipment of high-quality meats: perfect for grilling\, roasting\, and savoring all year long.\n\nTier 2(a): Templeton Feed & Grain Print\n\nEnter to win a stunning print of Derek Luff's photograph capturing the original Templeton Feed & Grain sign\; a timeless piece of local history and artistry. Perfect for any home or office\, this print celebrates the charm and heritage of Templeton.\n\n\n\n \n\nTier 2(b): The Ultimate Paso Staycation\n\nWin an unforgettable local getaway! Enjoy a night of relaxation at the AVA Hotel\, exceptional dining at Grace and Rose\, and unique Paso experiences\; including a tasting at LXV wine\, all wrapped into one incredible staycation package.\n\nTier 3: 49ers vs. Seahawks Game Package\n\nScore big with four premium tickets to the 49ers vs. Seattle Seahawks game at Levi?s® Stadium! Enjoy four (4) tickets in Sec C141 | Row 31 | Seat 5 - 8\, plus a parking pass for easy access. Don't miss your chance to experience this thrilling matchup\, live!
X-ALT-DESC;FMTTYPE=text/html:<p class="cvGsUA direction-ltr align-center para-style-body" style="color: rgba(232\,221\,200\,var(--O42jJQ\,1))\; caret-color: rgb(232\, 221\, 200)\; --8sD0Kg: none\; font-family: YAFdJsnKuGg_0\, _fb_\, auto\; --cyV3ZQ: 25.3334px\; --gJPlXQ: 1.4\; line-height: 35px\; text-align: center\;"><span style="color:#000000\;"><span class="a_GcMg font-feature-liga-off font-feature-clig-off font-feature-calt-off text-decoration-none text-strikethrough-none" style="--Ys-XuQ: none\; font-kerning: none\;"><span style="font-size:20px\;"><strong>Get Your Opportunity Drawing Tickets Now!</strong></span></span></span><br>\n<span style="font-size:16px\;"><span style="color:#000000\;"><span class="a_GcMg font-feature-liga-off font-feature-clig-off font-feature-calt-off text-decoration-none text-strikethrough-none" style="--Ys-XuQ: none\; font-kerning: none\;">Enter to win one of these fantastic packages!<br>\n**Do not need to be in attendance to win.</span></span></span></p>\n\n<p class="cvGsUA direction-ltr align-center para-style-body" style="color: rgba(110\,28\,28\,var(--O42jJQ\,1))\; caret-color: rgb(110\, 28\, 28)\; --8sD0Kg: none\; font-family: YAFdJsnKuGg_0\, _fb_\, auto\; --cyV3ZQ: 24.0768px\; --gJPlXQ: 1.11\; line-height: 26px\;"><span style="font-size:16px\;"><span style="color:#000000\;"><span class="a_GcMg font-feature-liga-off font-feature-clig-off font-feature-calt-off text-decoration-none text-strikethrough-none" style="--Ys-XuQ: none\; font-weight: 700\; font-kerning: none\;">Tier 1: Win Meat for a Year!</span><br>\n<span class="a_GcMg font-feature-liga-off font-feature-clig-off font-feature-calt-off text-decoration-none text-strikethrough-none" style="--Ys-XuQ: none\; font-kerning: none\;">Enter for your chance to win a year's worth of premium cuts from Primal House! The lucky winner will receive a monthly shipment of high-quality meats: perfect for grilling\, roasting\, and savoring all year long.</span></span></span></p>\n\n<p class="cvGsUA direction-ltr align-center para-style-body" style="color: rgba(110\,28\,28\,var(--O42jJQ\,1))\; caret-color: rgb(110\, 28\, 28)\; --8sD0Kg: none\; font-family: YAFdJjTk5UU_0\, _fb_\, auto\; --cyV3ZQ: 24.0768px\; --gJPlXQ: 1.11\; line-height: 26px\;"><span style="font-size:16px\;"><span style="color:#000000\;"><span class="a_GcMg font-feature-liga-off font-feature-clig-off font-feature-calt-off text-decoration-none text-strikethrough-none" style="--Ys-XuQ: none\; font-weight: 700\; font-kerning: none\;">Tier 2(a): Templeton Feed &amp\; Grain Print</span></span></span></p>\n\n<p class="cvGsUA direction-ltr align-center para-style-body" style="color: rgba(110\,28\,28\,var(--O42jJQ\,1))\; caret-color: rgb(110\, 28\, 28)\; --8sD0Kg: none\; font-family: YAFdJsnKuGg_0\, _fb_\, auto\; --cyV3ZQ: 18.7435px\; --gJPlXQ: 1.11\; line-height: 20px\;"><span style="font-size:16px\;"><span style="color:#000000\;"><span class="a_GcMg font-feature-liga-off font-feature-clig-off font-feature-calt-off text-decoration-none text-strikethrough-none" style="--Ys-XuQ: none\; font-kerning: none\;">Enter to win a stunning print of Derek Luff's photograph capturing the original Templeton Feed &amp\; Grain sign\; a timeless piece of local history and artistry. Perfect for any home or office\, this print celebrates the charm and heritage of Templeton.</span></span></span><br>\n<br>\n&nbsp\;</p>\n\n<p class="cvGsUA direction-ltr align-center para-style-body" style="color: rgba(110\,28\,28\,var(--O42jJQ\,1))\; caret-color: rgb(110\, 28\, 28)\; --8sD0Kg: none\; font-family: YAFdJsnKuGg_0\, _fb_\, auto\; --cyV3ZQ: 24.0768px\; --gJPlXQ: 1.11\; line-height: 26px\;"><span style="font-size:16px\;"><span style="color:#000000\;"><span class="a_GcMg font-feature-liga-off font-feature-clig-off font-feature-calt-off text-decoration-none text-strikethrough-none" style="--Ys-XuQ: none\; font-weight: 700\; font-kerning: none\;">Tier 2(b): The Ultimate Paso Staycation</span></span></span></p>\n\n<p class="cvGsUA direction-ltr align-center para-style-body" style="color: rgba(110\,28\,28\,var(--O42jJQ\,1))\; caret-color: rgb(110\, 28\, 28)\; --8sD0Kg: none\; font-family: YAFdJsnKuGg_0\, _fb_\, auto\; --cyV3ZQ: 18.7435px\; --gJPlXQ: 1.11\; line-height: 20px\;"><span style="font-size:16px\;"><span style="color:#000000\;"><span class="a_GcMg font-feature-liga-off font-feature-clig-off font-feature-calt-off text-decoration-none text-strikethrough-none" style="--Ys-XuQ: none\; font-kerning: none\;">Win an unforgettable local getaway! Enjoy a night of relaxation at the AVA Hotel\, exceptional dining at Grace and Rose\, and unique Paso experiences\; including a tasting at LXV wine\, all wrapped into one incredible staycation package.</span></span></span></p>\n\n<p class="cvGsUA direction-ltr align-center para-style-body" style="color: rgba(110\,28\,28\,var(--O42jJQ\,1))\; caret-color: rgb(110\, 28\, 28)\; --8sD0Kg: none\; font-family: YAFdJsnKuGg_0\, _fb_\, auto\; --cyV3ZQ: 24.0768px\; --gJPlXQ: 1.11\; line-height: 26px\;"><span style="font-size:16px\;"><span style="color:#000000\;"><span class="a_GcMg font-feature-liga-off font-feature-clig-off font-feature-calt-off text-decoration-none text-strikethrough-none" style="--Ys-XuQ: none\; font-weight: 700\; font-kerning: none\;">Tier 3: 49ers vs. Seahawks Game Package</span></span></span></p>\n\n<p class="cvGsUA direction-ltr align-center para-style-body" style="color: rgba(110\,28\,28\,var(--O42jJQ\,1))\; caret-color: rgb(110\, 28\, 28)\; --8sD0Kg: none\; font-family: YAFdJsnKuGg_0\, _fb_\, auto\; --cyV3ZQ: 18.7435px\; --gJPlXQ: 1.11\; line-height: 20px\;"><span style="font-size:16px\;"><span style="color:#000000\;"><span class="a_GcMg font-feature-liga-off font-feature-clig-off font-feature-calt-off text-decoration-none text-strikethrough-none" style="--Ys-XuQ: none\; font-kerning: none\;">Score big with four premium tickets to the 49ers vs. Seattle Seahawks game at Levi?s® Stadium! Enjoy four (4) tickets in Sec C141 | Row 31</span><span class="a_GcMg font-feature-liga-off font-feature-clig-off font-feature-calt-off text-decoration-none text-strikethrough-none white-space-prewrap" style="--Ys-XuQ: none\; font-kerning: none\;"> </span><span class="a_GcMg font-feature-liga-off font-feature-clig-off font-feature-calt-off text-decoration-none text-strikethrough-none" style="--Ys-XuQ: none\; font-kerning: none\;">|</span><span class="a_GcMg font-feature-liga-off font-feature-clig-off font-feature-calt-off text-decoration-none text-strikethrough-none white-space-prewrap" style="--Ys-XuQ: none\; font-kerning: none\;"> </span><span class="a_GcMg font-feature-liga-off font-feature-clig-off font-feature-calt-off text-decoration-none text-strikethrough-none" style="--Ys-XuQ: none\; font-kerning: none\;">Seat 5 - 8\, plus a parking pass for easy access. Don't miss your chance to experience this thrilling matchup\, live!</span></span></span></p>\n\n<p class="cvGsUA direction-ltr align-center para-style-body" style="color: rgba(232\,221\,200\,var(--O42jJQ\,1))\; caret-color: rgb(232\, 221\, 200)\; --8sD0Kg: none\; font-family: YAFdJsnKuGg_0\, _fb_\, auto\; --cyV3ZQ: 25.3334px\; --gJPlXQ: 1.4\; line-height: 35px\; text-align: center\;"><br>\n&nbsp\;</p>\n
LOCATION:
UID:e.2488.19946
SEQUENCE:3
DTSTAMP:20260421T005911Z
URL:https://business.pasorobleschamber.com/events/details/2025-templeton-christmas-tree-auction-opportunity-drawing-19946
END:VEVENT

END:VCALENDAR
