BEGIN:VCALENDAR
VERSION:2.0
PRODID:-//ChamberMaster//Event Calendar 2.0//EN
METHOD:PUBLISH
X-PUBLISHED-TTL:P3D
REFRESH-INTERVAL:P3D
CALSCALE:GREGORIAN
BEGIN:VEVENT
DTSTART:20170429T160000Z
DTEND:20170429T200000Z
X-MICROSOFT-CDO-ALLDAYEVENT:FALSE
SUMMARY:21st Street Clean-Up
DESCRIPTION:21st Street in Paso Robles is a pioneering example of a "Green Street"\, a street designed to minimize flooding and improve water quality\, but it is currently clogged with weeds and sediment. Volunteers will be weeding the sidewalk planters and medians\, as well as removing some sediment and laying compost. For information on what to bring\, parking\, and everything else\, please check out the 21st Street Clean Up Facebook and Eventbrite pages. To register for the event\, please go to the EventBrite page. Thanks!
X-ALT-DESC;FMTTYPE=text/html:21st Street in Paso Robles is a pioneering example of a &ldquo\;Green Street&rdquo\;\, a street designed to minimize flooding and improve water quality\, but it is currently clogged with weeds and sediment. Volunteers will be weeding the sidewalk planters and medians\, as well as removing some sediment and laying compost. For information on what to bring\, parking\, and everything else\, please check out the 21st Street Clean Up Facebook and Eventbrite pages. To register for the event\, please go to the EventBrite page. Thanks!
LOCATION:Volunteers should meet at the sign-in tent in front of Gene's Upholstery at 841 21st Street\, Paso Robles CA 93446.
UID:e.2488.6431
SEQUENCE:3
DTSTAMP:20260423T212259Z
URL:https://business.pasorobleschamber.com/events/details/21st-street-clean-up-6431
END:VEVENT

END:VCALENDAR
