BEGIN:VCALENDAR
VERSION:2.0
PRODID:-//ChamberMaster//Event Calendar 2.0//EN
METHOD:PUBLISH
X-PUBLISHED-TTL:P3D
REFRESH-INTERVAL:P3D
CALSCALE:GREGORIAN
BEGIN:VEVENT
DTSTART:20170709T010000Z
DTEND:20170709T040000Z
X-MICROSOFT-CDO-ALLDAYEVENT:FALSE
SUMMARY:2nd Annual Bluegrass\, Blues and Buffalos
DESCRIPTION:Come on out to Lazy Arrow Adventures at Camatta Ranch for an amazing evening of music. Starting at 7 p.m. on July 8\, Dirty Cello\, a San Francisco based blues and bluegrass band will perform. Opening will be local San Luis Obispo band\, the Bonneville Phantoms. \n \n \nCome enjoy the concert and explore beautiful Camatta Ranch. Camatta Ranch is a 32\,000 acre ranch with over 250 exotic animals including buffalo\, deer\, wild fowl\, Hungarian pigs\, and zebras. Join us on a warm summer evening\, under the stars\, surrounded by family and friends. With hay bale seating\, a beautiful stage\, a great sound system and room to dance\, this concert is not to be missed.\n \nTickets are $15 and includes lemonade\, iced tea\, and a grill if you want to barbecue. You bring the meat\, we'll supply the heat!
X-ALT-DESC;FMTTYPE=text/html:Come on out to Lazy Arrow Adventures at Camatta Ranch for an amazing evening of music. Starting at 7 p.m. on July 8\, Dirty Cello\, a San Francisco based blues and bluegrass band will perform. Opening will be local San Luis Obispo band\, the Bonneville Phantoms. \n \n \nCome enjoy the concert and explore beautiful Camatta Ranch. Camatta Ranch is a 32\,000 acre ranch with over 250 exotic animals including buffalo\, deer\, wild fowl\, Hungarian pigs\, and zebras. Join us on a warm summer evening\, under the stars\, surrounded by family and friends. With hay bale seating\, a beautiful stage\, a great sound system and room to dance\, this concert is not to be missed.\n \nTickets are $15 and includes lemonade\, iced tea\, and a grill if you want to barbecue. You bring the meat\, we'll supply the heat!\n
LOCATION:Lazy Arrow Adventures\, 9330 Camatta Creek Rd\, Santa Margarita\, CA 93453
UID:e.2488.6515
SEQUENCE:3
DTSTAMP:20260423T111749Z
URL:https://business.pasorobleschamber.com/events/details/2nd-annual-bluegrass-blues-and-buffalos-6515
END:VEVENT

END:VCALENDAR
