BEGIN:VCALENDAR
VERSION:2.0
PRODID:-//ChamberMaster//Event Calendar 2.0//EN
METHOD:PUBLISH
X-PUBLISHED-TTL:P3D
REFRESH-INTERVAL:P3D
CALSCALE:GREGORIAN
BEGIN:VEVENT
DTSTART:20160519T180000Z
DTEND:20160523T000000Z
X-MICROSOFT-CDO-ALLDAYEVENT:FALSE
SUMMARY:34th Annual Paso Robles Wine Festival
DESCRIPTION:Enjoy fine wines from 70+ wineries at the 34th Annual Paso Robles Wine Festival\, May 19 - 22. The event kicks-off Thursday\, May 19 with a selection of Winemaker Dinners. On Friday\, May 20\, select wineries feature their Library\, Reserve\, White/Ros \, and Futures complemented by fresh and local gourmet bites at the RESERVE Event. Start your morning on Saturday\, May 21 with a fun and educational Winemaker Seminar. Following the seminar\, more than 80 wineries come together in the Paso Robles Downtown City Park to showcase their wines during the Grand Tasting. Wineries at the Grand Tasting will be arranged by ?regions? for a seamless and focused tasting experience: Bordeaux-style\, Rh ne-style\, Zinfandel\, Burgundian-style\, Italian varieties and Other Wild Wines for your tasting pleasure. Travel beyond the Park to explore more than 140 winery events throughout the weekend including winemaker dinners\, live music\, barrel samples\, and so much more! Visit pasowine.com for tickets and complete details.
X-ALT-DESC;FMTTYPE=text/html:Enjoy fine wines from 70+ wineries at the 34th Annual Paso Robles Wine Festival\, May 19 - 22. The event kicks-off Thursday\, May 19 with a selection of Winemaker Dinners. On Friday\, May 20\, select wineries feature their Library\, Reserve\, White/Ros&eacute\;\, and Futures complemented by fresh and local gourmet bites at the RESERVE Event. Start your morning on Saturday\, May 21 with a fun and educational Winemaker Seminar. Following the seminar\, more than 80 wineries come together in the Paso Robles Downtown City Park to showcase their wines during the Grand Tasting. Wineries at the Grand Tasting will be arranged by ?regions? for a seamless and focused tasting experience: Bordeaux-style\, Rh&ocirc\;ne-style\, Zinfandel\, Burgundian-style\, Italian varieties and Other Wild Wines for your tasting pleasure. Travel beyond the Park to explore more than 140 winery events throughout the weekend including winemaker dinners\, live music\, barrel samples\, and so much more! Visit pasowine.com for tickets and complete details.
LOCATION:Downtown Paso Robles Park
UID:e.2488.4671
SEQUENCE:3
DTSTAMP:20260424T155723Z
URL:https://business.pasorobleschamber.com/events/details/34th-annual-paso-robles-wine-festival-05-19-2016-4671
END:VEVENT

END:VCALENDAR
