BEGIN:VCALENDAR
VERSION:2.0
PRODID:-//ChamberMaster//Event Calendar 2.0//EN
METHOD:PUBLISH
X-PUBLISHED-TTL:P3D
REFRESH-INTERVAL:P3D
CALSCALE:GREGORIAN
BEGIN:VEVENT
DTSTART;VALUE=DATE:20180517
DTEND;VALUE=DATE:20180521
TRANSP:TRANSPARENT
X-MICROSOFT-CDO-ALLDAYEVENT:TRUE
SUMMARY:36th Annual Wine Festival
DESCRIPTION:4-DAY CELEBRATION OF PASO WINE Now in its 36th year\, Wine Fest is a Paso Robles tradition when wineries bring the Paso Robles region to one central location for two days of events in the Downtown Park. Venture into wine country for events at more than 100 wineries all weekend long. SMALL TOWN CHARM MEETS WORLD CLASS WINE
X-ALT-DESC;FMTTYPE=text/html:4-DAY CELEBRATION OF PASO WINE Now in its 36th year\, Wine Fest is a Paso Robles tradition when wineries bring the Paso Robles region to one central location for two days of events in the Downtown Park. Venture into wine country for events at more than 100 wineries all weekend long. SMALL TOWN CHARM MEETS WORLD CLASS WINE
LOCATION:Various Paso Robles Locations
UID:e.2488.8117
SEQUENCE:3
DTSTAMP:20260421T234413Z
URL:https://business.pasorobleschamber.com/events/details/36th-annual-wine-festival-8117
END:VEVENT

END:VCALENDAR
