BEGIN:VCALENDAR
VERSION:2.0
PRODID:-//ChamberMaster//Event Calendar 2.0//EN
METHOD:PUBLISH
X-PUBLISHED-TTL:P3D
REFRESH-INTERVAL:P3D
CALSCALE:GREGORIAN
BEGIN:VEVENT
DTSTART:20160715T003000Z
DTEND:20160715T023000Z
X-MICROSOFT-CDO-ALLDAYEVENT:FALSE
SUMMARY:4 Chamber Mixer
DESCRIPTION:Be prepared to experience an evening of networking\, connecting\, and revisiting of the North County Businesses. Enjoying the special tastes from local vendors\, featured foods\, wines\, and great music of our beautiful North County. This is a grand mixer you will not want to miss!
X-ALT-DESC;FMTTYPE=text/html:Be prepared to experience an evening of&nbsp\;networking\, connecting\, and revisiting of the North County Businesses. Enjoying the special tastes from local vendors\, featured foods\, wines\, and great music of our beautiful North County. This is a grand mixer you will not want to miss!
LOCATION:Vines RV Resort 88 Wellsona Road Paso Robles\, CA
UID:e.2488.4637
SEQUENCE:3
DTSTAMP:20260424T132857Z
URL:https://business.pasorobleschamber.com/events/details/4-chamber-mixer-07-14-2016-4637
END:VEVENT

END:VCALENDAR
