BEGIN:VCALENDAR
VERSION:2.0
PRODID:-//ChamberMaster//Event Calendar 2.0//EN
METHOD:PUBLISH
X-PUBLISHED-TTL:P3D
REFRESH-INTERVAL:P3D
CALSCALE:GREGORIAN
BEGIN:VEVENT
DTSTART:20160904T013000Z
DTEND:20160904T040000Z
X-MICROSOFT-CDO-ALLDAYEVENT:FALSE
SUMMARY:46 West Wineries Fall Harvest Block Party at Castoro Cellars
DESCRIPTION:HWY 46 West Wineries Harvest Block Party at Castoro Cellars Join us on Saturday\, September 3\, 2016 from 6:30-9pm at Castoro Cellars\, located just off of Highway 46 West at 1315 N Bethel Road in the heart of Paso Robles Wine Country. The Harvest Block Party is an annual wine tasting event with the member wineries of the 46 West in a casual 'mini-wine festival' atmosphere\, along with great grub and rockin' live music to dance the night away to...all for $45 per person! This is one of the more popular events on the Central Coast and should not be missed. THIS EVENT WILL SELL OUT\, so get your tickets early\, you don't want to be turned away at the door. Tickets available online via Brown Paper Tickets or by visiting Castoro Cellars. *Attendees must be 21 years of age or older\, please no pets. **The Highway 46 West Wineries encourage you to enjoy responsibly\, please designate a driver. Member 46 W Group wineries: Castoro Cellars Doce Robles Peachy Canyon J Dusi Tooth and Nail Croad Aron Hill Donatoni Grey Wolf Hunt Cellars Midnight Cellars Donati Sextant Shale Oak Four Lanterns
X-ALT-DESC;FMTTYPE=text/html:HWY 46 West Wineries Harvest Block Party at Castoro Cellars Join us on Saturday\, September 3\, 2016 from 6:30-9pm at Castoro Cellars\, located just off of Highway 46 West at 1315 N Bethel Road in the heart of Paso Robles Wine Country. The Harvest Block Party is an annual wine tasting event with the member wineries of the 46 West in a casual &#39\;mini-wine festival&#39\; atmosphere\, along with great grub and rockin&#39\; live music to dance the night away to...all for $45 per person! This is one of the more popular events on the Central Coast and should not be missed. THIS EVENT WILL SELL OUT\, so get your tickets early\, you don&#39\;t want to be turned away at the door. Tickets available online via Brown Paper Tickets or by visiting Castoro Cellars. *Attendees must be 21 years of age or older\, please no pets. **The Highway 46 West Wineries encourage you to enjoy responsibly\, please designate a driver. Member 46 W Group wineries: Castoro Cellars Doce Robles Peachy Canyon J Dusi Tooth and Nail Croad Aron Hill Donatoni Grey Wolf Hunt Cellars Midnight Cellars Donati Sextant Shale Oak Four Lanterns
LOCATION:1315 N Bethel Road Templeton\, CA\, 93465
UID:e.2488.4843
SEQUENCE:3
DTSTAMP:20260424T090816Z
URL:https://business.pasorobleschamber.com/events/details/46-west-wineries-fall-harvest-block-party-at-castoro-cellars-09-03-2016-4843
END:VEVENT

END:VCALENDAR
