BEGIN:VCALENDAR
VERSION:2.0
PRODID:-//ChamberMaster//Event Calendar 2.0//EN
METHOD:PUBLISH
X-PUBLISHED-TTL:P3D
REFRESH-INTERVAL:P3D
CALSCALE:GREGORIAN
BEGIN:VEVENT
DTSTART:20180708T013000Z
DTEND:20180708T040000Z
X-MICROSOFT-CDO-ALLDAYEVENT:FALSE
SUMMARY:Paso Wine Summer Block Party
DESCRIPTION:Join us on Saturday\, July 7\, 2018 from 6:30-9pm at Four Lanterns Winery\, located just off of Highway 46 West at 2485 CA-46 (across the highway from Niner Wine Estates)\, in the heart of Paso Robles Wine Country\, for the 2018 Highway 46 West Summer Block Party.\n\n\n\nThe Summer Block Party is a wine tasting with the member wineries of the 46 West in a casual 'mini-wine festival' atmosphere\, along with great grub and rockin' live music to dance the night away to...all for $55 per person!  This is one of the more popular events on the Central Coast and should not be missed.  This Event Will Sell Out\, so get your tickets early\, you don't want to be turned away at the door.\n\n\n\nAll attendees must be 21 years of age or older\, please no pets.\n\n\n\nThe Highway 46 West Wineries encourage you to enjoy responsibly\, please designate a driver.
X-ALT-DESC;FMTTYPE=text/html:Join us on Saturday\, July 7\, 2018 from 6:30-9pm at Four Lanterns Winery\, located just off of Highway 46 West at 2485 CA-46 (across the highway from Niner Wine Estates)\, in the heart of Paso Robles Wine Country\, for the 2018 Highway 46 West Summer Block Party.<br />\n<br />\nThe Summer Block Party is a wine tasting with the member wineries of the 46 West in a casual &#39\;mini-wine festival&#39\; atmosphere\, along with great grub and rockin&#39\; live music to dance the night away to...all for $55 per person!&nbsp\; This is one of the more popular events on the Central Coast and should not be missed.&nbsp\; This Event Will Sell Out\, so get your tickets early\, you don&#39\;t want to be turned away at the door.<br />\n<br />\nAll attendees must be 21 years of age or older\, please no pets.<br />\n<br />\nThe Highway 46 West Wineries encourage you to enjoy responsibly\, please designate a driver.
LOCATION:Four Lanterns Winery is located just off of Highway 46 West at 2485 CA-46 (across the highway from Niner Wine Estates)\, in the heart of Paso Robles Wine Country.
UID:e.2488.9200
SEQUENCE:3
DTSTAMP:20260421T182145Z
URL:https://business.pasorobleschamber.com/events/details/46-west-wineries-summer-block-party-9200
END:VEVENT

END:VCALENDAR
