BEGIN:VCALENDAR
VERSION:2.0
PRODID:-//ChamberMaster//Event Calendar 2.0//EN
METHOD:PUBLISH
X-PUBLISHED-TTL:P3D
REFRESH-INTERVAL:P3D
CALSCALE:GREGORIAN
BEGIN:VEVENT
DTSTART:20180518T180000Z
DTEND:20180520T050000Z
X-MICROSOFT-CDO-ALLDAYEVENT:FALSE
SUMMARY:5th Annual 2018 SLO Jazz Festival
DESCRIPTION:Featuring 3x Grammy Winner SERGIO MENDES\, 2014 Grammy Winner Pacific Mambo\, 2018 Grammy Winner Jeff Lorber\, Big Sam's Funky Nation\, Ricardo Lemvo & Makina Loca\, Anton Schwartz\, TrioKait\, with 20 acts over 5 stages and 2 days. Located in the historic and elegant Old Mission Plaza in the heart of this college town that Oprah describes as "the happiest city in America" - get tickets now.
X-ALT-DESC;FMTTYPE=text/html:Featuring 3x Grammy Winner SERGIO MENDES\, 2014 Grammy Winner Pacific Mambo\, 2018 Grammy Winner Jeff Lorber\, Big Sam&rsquo\;s Funky Nation\, Ricardo Lemvo &amp\; Makina Loca\, Anton Schwartz\, TrioKait\, with 20 acts over 5 stages and 2 days. Located in the historic and elegant Old Mission Plaza in the heart of this college town that Oprah describes as &ldquo\;the happiest city in America&rdquo\; - get tickets now.
LOCATION:Mission Plaza San Luis Obispo
UID:e.2488.8061
SEQUENCE:3
DTSTAMP:20260421T235525Z
URL:https://business.pasorobleschamber.com/events/details/5th-annual-2018-slo-jazz-festival-8061
END:VEVENT

END:VCALENDAR
