BEGIN:VCALENDAR
VERSION:2.0
PRODID:-//ChamberMaster//Event Calendar 2.0//EN
METHOD:PUBLISH
X-PUBLISHED-TTL:P3D
REFRESH-INTERVAL:P3D
CALSCALE:GREGORIAN
BEGIN:VEVENT
DTSTART:20180729T000000Z
DTEND:20180729T030000Z
X-MICROSOFT-CDO-ALLDAYEVENT:FALSE
SUMMARY:6th Annual SOUL Kitchen to benefit The Wellness Kitchen
DESCRIPTION:Kickoff Your Shoes for Some Summertime fun to benefit The Wellness Kitchen! \n\n\n\nEnjoy the park-like setting of Peachy Canyon Winery on Saturday\, July 28th from 5pm   8pm for The Wellness Kitchen's fundraiser\, including live music\, wine\, delicious food and silent and live auction items. \n\n\n\nS.O.U.L. stands for Seasonal\, Organic\, Unrefined\, and Local\, which best supports our local community and growers. Guests can bring lawn chairs\, lay out a blanket on the grass or join others at a picnic table as they are served a light dinner prepared by volunteers of The Wellness Kitchen (TWK). Start the evening off with a glass of Peachy Canyon wine\, live music by The Paisano's\, and get in early on a surprise raffle item!  \n\n\n\nDonations and proceeds benefit the Pay it Forward meal program that provides nutritious food for those going through critical illness and financial hardship. Tickets are $40 and are tax-deductible.\n\n\n\nRegister today at http://www.thewkrc.org/calendar.html\n\n\n\n~~~\n\n\n\nThe Wellness Kitchen and Resource Center is a nonprofit organization in Templeton\, CA whose mission is to provide our community with the most delicious and nutritious foods possible\, but also give back through culinary instruction\, nutrition education\, and support groups. We host cooking classes with our in-house chefs\, as well as a variety of healing lectures and demonstrations led by health professionals\, guest chefs\, nutrition educators\, organic ranchers and farmers. http://www.thewkrc.org/
X-ALT-DESC;FMTTYPE=text/html:<span style="color:rgb(29\, 33\, 41)\; font-family:helvetica\,arial\,sans-serif\; font-size:14px">Kickoff Your Shoes for Some Summertime fun to benefit The Wellness Kitchen!&nbsp\;</span><br />\n<br />\n<span style="color:rgb(29\, 33\, 41)\; font-family:helvetica\,arial\,sans-serif\; font-size:14px">Enjoy the park-like setting of Peachy Canyon Winery on Saturday\, July 28th from 5pm &ndash\; 8pm for The Wellness Kitchen&rsquo\;s fundraiser\, including live music\, wine\, delicious food and silent and live auction items.&nbsp\;</span><br />\n<br />\n<span style="color:rgb(29\, 33\, 41)\; font-family:helvetica\,arial\,sans-serif\; font-size:14px">S.O.U.L. stands for Seasonal\, Organic\, Unrefined\, and Local\, which best supports our local community and growers. Guests can bring lawn chairs\, lay out a blanket on the grass or join others at a picnic table as they are served a light dinner prepared by volunteers of The Wellness Kitchen (TWK). Start the evening off with a glass of Peachy Canyon wine\, live music by The Paisano&rsquo\;s\, and get in early on a surprise raffle item!&nbsp\;&nbsp\;</span><br />\n<br />\n<span style="color:rgb(29\, 33\, 41)\; font-family:helvetica\,arial\,sans-serif\; font-size:14px">Donations and proceeds benefit the Pay it Forward meal program that provides nutritious food for those going through critical illness and financial hardship. Tickets are $40 and are tax-deductible.</span><br />\n<br />\n<span style="color:rgb(29\, 33\, 41)\; font-family:helvetica\,arial\,sans-serif\; font-size:14px">Register today at&nbsp\;</span><a href="https://l.facebook.com/l.php?u=http%3A%2F%2Fwww.thewkrc.org%2Fcalendar.html&amp\;h=ATM6sC5hirZbfZLtJtt72UUwSMnCfJ2_a8yt4DWE-Z1Ud2vAkLGot_QSh7EG9lKJQHJ0ryi9F3hR89PeyzzeqNqcIGDn2619xsDZKAGOqmj95-oB0w&amp\;s=1" style="color: rgb(54\, 88\, 153)\; cursor: pointer\; text-decoration-line: none\; font-family: Helvetica\, Arial\, sans-serif\; font-size: 14px\;" target="_blank">http://www.thewkrc.org/calendar.html</a><br />\n<br />\n<span style="color:rgb(29\, 33\, 41)\; font-family:helvetica\,arial\,sans-serif\; font-size:14px">~~~</span><br />\n<br />\n<span style="color:rgb(29\, 33\, 41)\; font-family:helvetica\,arial\,sans-serif\; font-size:14px">The Wellness Kitchen and Resource Center is a nonprofit organization in Templeton\, CA whose mission is to provide our community with the most delicious and nutritious foods possible\, but also give back through culinary instruction\, nutrition education\, and support groups. We host cooking classes with our in-house chefs\, as well as a variety of healing lectures and demonstrations led by health professionals\, guest chefs\, nutrition educators\, organic ranchers and farmers.&nbsp\;</span><a href="https://l.facebook.com/l.php?u=http%3A%2F%2Fwww.thewkrc.org%2F&amp\;h=ATOGGMRpoIfAYnpVTY0Vm8dAowJjb_gPZeggjLxlmgJsEHU4C5mSPKRwLPmoCyGQbQZDcrVdZEzfV60earUCom5-anfFnbTUW0VkMnBd_GzujO3NZw&amp\;s=1" style="color: rgb(54\, 88\, 153)\; cursor: pointer\; text-decoration-line: none\; font-family: Helvetica\, Arial\, sans-serif\; font-size: 14px\;" target="_blank">http://www.thewkrc.org/</a>
LOCATION:Peachy Canyon Winery\, Templeton CA
UID:e.2488.9195
SEQUENCE:3
DTSTAMP:20260421T164811Z
URL:https://business.pasorobleschamber.com/events/details/6th-annual-soul-kitchen-to-benefit-the-wellness-kitchen-9195
END:VEVENT

END:VCALENDAR
