BEGIN:VCALENDAR
VERSION:2.0
PRODID:-//ChamberMaster//Event Calendar 2.0//EN
METHOD:PUBLISH
X-PUBLISHED-TTL:P3D
REFRESH-INTERVAL:P3D
CALSCALE:GREGORIAN
BEGIN:VEVENT
DTSTART:20180520T013000Z
DTEND:20180520T040000Z
X-MICROSOFT-CDO-ALLDAYEVENT:FALSE
SUMMARY:9th Annual Pig Roast at Calcareous Vineyard
DESCRIPTION:Come celebrate our 9th Annual Pig Roast Saturday evening\, 6:30-9pm. Hula the night away in your favorite Hawaiian attire to the rhythm of Big Island - Hawaiian Duet! Enjoy your favorite Calcareous wines while indulging in a slow-roasted pig complemented by island inspired side dishes. $90pp / $75Club. Reservations required.
X-ALT-DESC;FMTTYPE=text/html:<div style="text-align: center\;"><span style="font-size:18px"><span style="font-family:times new roman">Come celebrate our 9th Annual Pig Roast Saturday evening\, 6:30-9pm. Hula the night away in your favorite Hawaiian attire to the rhythm of Big Island - Hawaiian Duet! Enjoy your favorite Calcareous wines while indulging in a slow-roasted pig complemented by island inspired side dishes. $90pp / $75Club. Reservations required.&nbsp\;</span></span></div>\n
LOCATION:Calcareous Vineyard 3430 Peachy Canyon Rd Paso Robles\, CA 93446
UID:e.2488.8058
SEQUENCE:3
DTSTAMP:20260421T220712Z
URL:https://business.pasorobleschamber.com/events/details/9th-annual-pig-roast-at-calcareous-vineyard-8058
END:VEVENT

END:VCALENDAR
