BEGIN:VCALENDAR
VERSION:2.0
PRODID:-//ChamberMaster//Event Calendar 2.0//EN
METHOD:PUBLISH
X-PUBLISHED-TTL:P3D
REFRESH-INTERVAL:P3D
CALSCALE:GREGORIAN
BEGIN:VEVENT
DTSTART:20171209T200000Z
DTEND:20171210T000000Z
X-MICROSOFT-CDO-ALLDAYEVENT:FALSE
SUMMARY:A Day of Christmas Fun
DESCRIPTION:An old fashion Christmas Party for children ages 3-13 years. Wagon rides provided by Harris Stage Lines. Visits with Santa Claus. Performances by local children\; music & singing. Building gingerbread houses\, games and more. Twentieth year of the event. A true memory builder. Space is limited. Pre-registration is required. Applications released October 1st at the Paso Robles Albertsons Store only.
X-ALT-DESC;FMTTYPE=text/html:An old fashion Christmas Party for children ages 3-13 years. Wagon rides provided by Harris Stage Lines. Visits with Santa Claus. Performances by local children\; music &amp\; singing. Building gingerbread houses\, games and more. Twentieth year of the event. A true memory builder. Space is limited. Pre-registration is required. Applications released October 1st at the Paso Robles Albertsons Store only.
LOCATION:Paso Robles Event Center
UID:e.2488.6840
SEQUENCE:3
DTSTAMP:20260422T083519Z
URL:https://business.pasorobleschamber.com/events/details/a-day-of-christmas-fun-6840
END:VEVENT

END:VCALENDAR
