BEGIN:VCALENDAR
VERSION:2.0
PRODID:-//ChamberMaster//Event Calendar 2.0//EN
METHOD:PUBLISH
X-PUBLISHED-TTL:P3D
REFRESH-INTERVAL:P3D
CALSCALE:GREGORIAN
BEGIN:VEVENT
DTSTART:20181222T020000Z
DTEND:20181222T050000Z
X-MICROSOFT-CDO-ALLDAYEVENT:FALSE
SUMMARY:A Merry Tiki Christmas: Tiki Party & Trivia Night
DESCRIPTION:It's time to break out your aloha shirts and Santa hats   Calwise Spirits Co. is hosting their first ever Christmas Tiki Party! Have yourself a Merry Tiki Christmas and join us for a night filled with Christmas Movie Trivia\, festive tiki cocktails\, and lots of holiday cheer! Come to the distillery on Friday\, December 21st from 6-9 pm and don't forget to wear your best Christmas tiki attire! Be there or be a scrooge.
X-ALT-DESC;FMTTYPE=text/html:It&#39\;s time to break out your aloha shirts and Santa hats &ndash\; Calwise Spirits Co. is hosting their first ever Christmas Tiki Party! Have yourself a Merry Tiki Christmas and join us for a night filled with Christmas Movie Trivia\, festive tiki cocktails\, and lots of holiday cheer! Come to the distillery on Friday\, December 21st from 6-9 pm and don&#39\;t forget to wear your best Christmas tiki attire! Be there or be a scrooge.
LOCATION:3340 Ramada Drive\, Suite B Paso Robles\, CA 93446
UID:e.2488.9622
SEQUENCE:3
DTSTAMP:20260421T080007Z
URL:https://business.pasorobleschamber.com/events/details/a-merry-tiki-christmas-tiki-party-trivia-night-9622
END:VEVENT

END:VCALENDAR
