BEGIN:VCALENDAR
VERSION:2.0
PRODID:-//ChamberMaster//Event Calendar 2.0//EN
METHOD:PUBLISH
X-PUBLISHED-TTL:P3D
REFRESH-INTERVAL:P3D
CALSCALE:GREGORIAN
BEGIN:VEVENT
DTSTART:20251205T230000Z
DTEND:20251206T010000Z
X-MICROSOFT-CDO-ALLDAYEVENT:FALSE
SUMMARY:A Very Mary Christmas
DESCRIPTION:Cuesta Concord Chorus presents "A Very Mary Christmas" concert featuring Mozart's Regina Coeli and Coronation Mass followed by inspirational music for the holiday season. Tickets are pay-what-you-can at tickets.cuesta.edu. Orchestra\, chorus and soloists conducted by Cassandra Tarantino accompanied by Ryan Hartzell. Featured soloists Regan Rowins\, Cory Hable\, Lorenzo Dewayne Johnson and Colin Toohey Dates: December 5\, 3 pm Cuesta Performing Arts Center
X-ALT-DESC;FMTTYPE=text/html:Cuesta Concord Chorus presents &quot\;A Very Mary Christmas&quot\; concert featuring Mozart&#39\;s Regina Coeli and Coronation Mass followed by inspirational music for the holiday season. Tickets are pay-what-you-can at tickets.cuesta.edu. Orchestra\, chorus and soloists conducted by Cassandra Tarantino accompanied by Ryan Hartzell. Featured soloists Regan Rowins\, Cory Hable\, Lorenzo Dewayne Johnson and Colin Toohey Dates: December 5\, 3 pm Cuesta Performing Arts Center
LOCATION:Cuesta College CPAC San Luis Obispo
UID:e.2488.19938
SEQUENCE:3
DTSTAMP:20260423T222021Z
URL:https://business.pasorobleschamber.com/events/details/a-very-mary-christmas-19938
END:VEVENT

END:VCALENDAR
