BEGIN:VCALENDAR
VERSION:2.0
PRODID:-//ChamberMaster//Event Calendar 2.0//EN
METHOD:PUBLISH
X-PUBLISHED-TTL:P3D
REFRESH-INTERVAL:P3D
CALSCALE:GREGORIAN
BEGIN:VEVENT
DTSTART:20160504T153000Z
DTEND:20160505T010000Z
X-MICROSOFT-CDO-ALLDAYEVENT:FALSE
SUMMARY:AG Tour
DESCRIPTION:Schedule\n\nPaso Robles Pioneer Museum (Departs at 8:30am)\n\nSan Miguel Flour Mill\n\nMee Ranch\n\nSan Lorenzo County Park\n\nDelicato Family Vineyard\n\nViborg Ranch\n\nPaso Robles Pioneer Museum (Returns at 6pm)
X-ALT-DESC;FMTTYPE=text/html:<span style="font-size:14px\;"><span style="font-family:times new roman\;">Schedule<br />\nPaso Robles Pioneer Museum (Departs at 8:30am)<br />\nSan Miguel Flour Mill<br />\nMee Ranch<br />\nSan Lorenzo County Park<br />\nDelicato Family Vineyard<br />\nViborg Ranch<br />\nPaso Robles Pioneer Museum (Returns at 6pm)&nbsp\;</span></span>
LOCATION:
UID:e.2488.4621
SEQUENCE:3
DTSTAMP:20260424T154947Z
URL:https://business.pasorobleschamber.com/events/details/ag-tour-05-04-2016-4621
END:VEVENT

END:VCALENDAR
