BEGIN:VCALENDAR
VERSION:2.0
PRODID:-//ChamberMaster//Event Calendar 2.0//EN
METHOD:PUBLISH
X-PUBLISHED-TTL:P3D
REFRESH-INTERVAL:P3D
CALSCALE:GREGORIAN
BEGIN:VEVENT
DTSTART:20170617T200000Z
DTEND:20170617T220000Z
X-MICROSOFT-CDO-ALLDAYEVENT:FALSE
SUMMARY:Albariño Summit Picnic and Grand Tasting at Broken Earth Winery
DESCRIPTION:As part of The 2nd Annual Albari o Summit\, Broken Earth Winery will be hosting an Albari o picnic Saturday\, June 17th. The picnic is open to the public to join and will feature food for purchase by The Lobos Truck from Los Angeles and live music on the patio by Ricky Montijo and The Mojitos. So we invite you to grab a bite to eat\, have a glass of wine\, and relax on a Saturday afternoon. This picnic is part of the Albari o Summit\, which is a series of events through the weekend of June 16th   June 17th that celebrate the wonderful Spanish varietal Albari o. Join thirty passionate boutique wine producers from all over California at three truly\, unique events. All focused around the wonderfully crisp\, aromatic\, food friendly Albari o Grape Varietal. Come learn more about Albari o. It's currently one of the most fashionable grape varieties in the USA. Albari o Summit Events Friday\, June 16th Starlit Dinner at Brecon Estate   6:00p.m. Saturday\, June 17th Seminar at Derby Wine Estates   10:00a.m. to 11:30a.m. Albari o Picnic at Broken Earth Winery   1:00p.m. to 3:00p.m. Open to the Public Albari o Summit Grand Tasting at Broken Earth Winery   3:00p.m. to 6:00p.m. *There are no tickets needed for the Albari o Picnic\, this event is complementary and open to the public with food and wine for purchase.
X-ALT-DESC;FMTTYPE=text/html:As part of The 2nd Annual Albari&ntilde\;o Summit\, Broken Earth Winery will be hosting an Albari&ntilde\;o picnic Saturday\, June 17th. The picnic is open to the public to join and will feature food for purchase by The Lobos Truck from Los Angeles and live music on the patio by Ricky Montijo and The Mojitos. So we invite you to grab a bite to eat\, have a glass of wine\, and relax on a Saturday afternoon. This picnic is part of the Albari&ntilde\;o Summit\, which is a series of events through the weekend of June 16th &ndash\; June 17th that celebrate the wonderful Spanish varietal Albari&ntilde\;o. Join thirty passionate boutique wine producers from all over California at three truly\, unique events. All focused around the wonderfully crisp\, aromatic\, food friendly Albari&ntilde\;o Grape Varietal. Come learn more about Albari&ntilde\;o. It&#39\;s currently one of the most fashionable grape varieties in the USA. Albari&ntilde\;o Summit Events Friday\, June 16th Starlit Dinner at Brecon Estate &ndash\; 6:00p.m. Saturday\, June 17th Seminar at Derby Wine Estates &ndash\; 10:00a.m. to 11:30a.m. Albari&ntilde\;o Picnic at Broken Earth Winery &ndash\; 1:00p.m. to 3:00p.m. Open to the Public Albari&ntilde\;o Summit Grand Tasting at Broken Earth Winery &ndash\; 3:00p.m. to 6:00p.m. *There are no tickets needed for the Albari&ntilde\;o Picnic\, this event is complementary and open to the public with food and wine for purchase.
LOCATION:Broken Earth Winery 5625 Highway 46 East\, Paso Robles\, CA 93446
UID:e.2488.6506
SEQUENCE:3
DTSTAMP:20260423T184407Z
URL:https://business.pasorobleschamber.com/events/details/albari&#241;o-summit-picnic-and-grand-tasting-at-broken-earth-winery-6506
END:VEVENT

END:VCALENDAR
