BEGIN:VCALENDAR
VERSION:2.0
PRODID:-//ChamberMaster//Event Calendar 2.0//EN
METHOD:PUBLISH
X-PUBLISHED-TTL:P3D
REFRESH-INTERVAL:P3D
CALSCALE:GREGORIAN
BEGIN:VEVENT
DTSTART:20160812T170000Z
DTEND:20160813T070000Z
X-MICROSOFT-CDO-ALLDAYEVENT:FALSE
SUMMARY:Arbor Ridge Ribbon Cutting Ceremony
DESCRIPTION:Please join Williams Homes for the Official Ribbon Cutting Ceremony at Arbor Ridge new home community\n\nFriday\, August 12\, 2016\n\n10 o'clock in the morning Coffee & Morning Refreshments will be Served \n\n\n\n\n\nArbor Ridge Sales Center 303 Oak Hill Road\n\nPaso Robles\, CA 93446 \n\nPlease RSVP to\n\nDiana Kolec\n\nat 800.279.7581\n\nby Wednesday\, August 10. \n\n\n\nBuilding Quality For A Lifetime
X-ALT-DESC;FMTTYPE=text/html:<div>\n<div>\n<div>\n<p><span style="font-family:gotham\; font-size:18.000000pt">Please join Williams Homes for the Official Ribbon Cutting Ceremony at Arbor Ridge new home community</span></p>\n\n<p><span style="font-family:gotham\; font-size:15.000000pt">Friday\, August 12\, 2016<br />\n10 o&rsquo\;clock in the morning Coffee &amp\; Morning Refreshments will be Served </span></p>\n</div>\n</div>\n\n<div>\n<div>\n<p><span style="font-family:gotham\; font-size:12.000000pt">Arbor Ridge Sales Center 303 Oak Hill Road<br />\nPaso Robles\, CA 93446 </span></p>\n\n<p><span style="font-family:gotham\; font-size:12.000000pt">Please RSVP to<br />\nDiana Kolec<br />\nat 800.279.7581<br />\nby Wednesday\, August 10. </span></p>\n</div>\n\n<div>\n<p><span style="color:rgb(31.050000%\, 48.300000%\, 69.000000%)\; font-family:gotham\; font-size:8.000000pt">Building Quality For A Lifetime </span></p>\n</div>\n</div>\n</div>\n
LOCATION:
UID:e.2488.4853
SEQUENCE:3
DTSTAMP:20260424T102901Z
URL:https://business.pasorobleschamber.com/events/details/arbor-ridge-ribbon-cutting-ceremony-08-12-2016-4853
END:VEVENT

END:VCALENDAR
