BEGIN:VCALENDAR
VERSION:2.0
PRODID:-//ChamberMaster//Event Calendar 2.0//EN
METHOD:PUBLISH
X-PUBLISHED-TTL:P3D
REFRESH-INTERVAL:P3D
CALSCALE:GREGORIAN
BEGIN:VEVENT
DTSTART:20180414T133000Z
DTEND:20180414T190000Z
X-MICROSOFT-CDO-ALLDAYEVENT:FALSE
SUMMARY:Army Reserve Youth Birthday Fishing Derby
DESCRIPTION:110 Years of Service to the Nation
X-ALT-DESC;FMTTYPE=text/html:110 Years of Service to the Nation
LOCATION:Celebrate the Army Reserve Birthday with the Fort Hunter Legget community in our 16th annual youth fishing derby at Del Venturi Reservoir.
UID:e.2488.8129
SEQUENCE:3
DTSTAMP:20260422T112041Z
URL:https://business.pasorobleschamber.com/events/details/army-reserve-youth-birthday-fishing-derby-8129
END:VEVENT

END:VCALENDAR
