BEGIN:VCALENDAR
VERSION:2.0
PRODID:-//ChamberMaster//Event Calendar 2.0//EN
METHOD:PUBLISH
X-PUBLISHED-TTL:P3D
REFRESH-INTERVAL:P3D
CALSCALE:GREGORIAN
BEGIN:VEVENT
DTSTART:20170226T010000Z
DTEND:20170226T030000Z
X-MICROSOFT-CDO-ALLDAYEVENT:FALSE
SUMMARY:Art & Wine Night
DESCRIPTION:Perfect gift for your Valentine of an evening out!\n\n\n\nAll supplies included\, plus a glass of Changala wine and snacks. Create a 16x20 canvas painting with step-by-step instructions of local artist in Changala's barrel room after hours. Relaxed atmosphere\, boutique wine\, and something to take home too - what could be better?\n\n\n\nReserve your spot by contacting artist Claudia Mapes.
X-ALT-DESC;FMTTYPE=text/html:<span style="color:#A52A2A"><span style="font-family:verdana"><strong>Perfect gift for your Valentine of an evening out!</strong><br />\n<br />\nAll supplies included\, plus a glass of Changala wine and snacks. Create a 16x20 canvas painting with step-by-step instructions of local artist in Changala&#39\;s barrel room after hours. Relaxed atmosphere\, boutique wine\, and something to take home too - what could be better?<br />\n<br />\nReserve your spot by contacting artist Claudia Mapes.</span></span><br />\n&nbsp\;
LOCATION:Changala Winery 3770 Willow Creek Rd Paso Robles CA 93446
UID:e.2488.6071
SEQUENCE:3
DTSTAMP:20260421T094905Z
URL:https://business.pasorobleschamber.com/events/details/art-wine-night-6071
END:VEVENT

END:VCALENDAR
