BEGIN:VCALENDAR
VERSION:2.0
PRODID:-//ChamberMaster//Event Calendar 2.0//EN
METHOD:PUBLISH
X-PUBLISHED-TTL:P3D
REFRESH-INTERVAL:P3D
CALSCALE:GREGORIAN
BEGIN:VEVENT
DTSTART:20180916T190000Z
DTEND:20180916T220000Z
X-MICROSOFT-CDO-ALLDAYEVENT:FALSE
SUMMARY:Artisan Market September 16th
DESCRIPTION:Every 3rd Sunday we host an Artisan Market featuring local jewelers\, artists\, creatives\, and craftsmen! Join us from 12pm-3pm in our Event Hall where you can sip and shop! We will also have Gypsy Flame pizza as a vendor and San Marcos Creek will be serving wine slushies! Contact us here if you are interested in becoming a participating seller or email contactus@sanmarcoscreek.com for more information on upcoming craft markets.
X-ALT-DESC;FMTTYPE=text/html:Every 3rd Sunday we host an Artisan Market featuring local jewelers\, artists\, creatives\, and craftsmen! Join us from 12pm-3pm in our Event Hall where you can sip and shop! We will also have Gypsy Flame pizza as a vendor and San Marcos Creek will be serving wine slushies! Contact us here if you are interested in becoming a participating seller or email contactus@sanmarcoscreek.com for more information on upcoming craft markets.
LOCATION:San Marcos Creek Winery\, 7750 North Highway 101\, Paso Robles CA 93446
UID:e.2488.9532
SEQUENCE:3
DTSTAMP:20260421T162736Z
URL:https://business.pasorobleschamber.com/events/details/artisan-market-september-16th-9532
END:VEVENT

END:VCALENDAR
