BEGIN:VCALENDAR
VERSION:2.0
PRODID:-//ChamberMaster//Event Calendar 2.0//EN
METHOD:PUBLISH
X-PUBLISHED-TTL:P3D
REFRESH-INTERVAL:P3D
CALSCALE:GREGORIAN
BEGIN:VEVENT
DTSTART:20180819T010000Z
DTEND:20180819T050000Z
X-MICROSOFT-CDO-ALLDAYEVENT:FALSE
SUMMARY:August's Private Dinner at Wild Coyote Estate Winery
DESCRIPTION:Our private winemaker dinners are once a month\, and limited seating for a maximum of 20-guests .  Kati (Owner's wife) is the main host\; she designs all the menus\, prepares all the items fresh "farm-to-table"\, and serves in a friendly style hospitality.  DInner includes a bottle of Wild Coyote's Classic Reds.  Gianni (Owner/Winemaker) will make a round and toast a glass of wine with all his guests...\nDinner Menu:\n\nFirst Course: Gazpacho Soup\n\nSecond Course: Summer Greens Salad    \n\nMain Course: Maryland Lump Crab Cakes\n\nSweet Course: Homemade Peach Cobbler
X-ALT-DESC;FMTTYPE=text/html:<p><span style="font-size:14px"><span style="font-family:comic sans ms">Our private winemaker dinners are once a month\, and limited seating for a maximum of 20-guests .&nbsp\; Kati (Owner&#39\;s wife) is the main host\; she designs all the menus\, prepares all the items fresh &quot\;farm-to-table&quot\;\, and serves in a friendly style hospitality.&nbsp\; DInner includes a bottle of Wild Coyote&#39\;s Classic Reds.&nbsp\; Gianni (Owner/Winemaker) will make a round and toast a glass of wine with all his guests...</span></span></p>\n<span style="font-size:14px"><span style="font-family:comic sans ms"><span style="font-size:16px"><u><strong>Dinner Menu:</strong></u></span><br />\n<u>First Course:</u>&nbsp\;Gazpacho Soup<br />\n<u>Second Course:</u> Summer Greens Salad</span></span>&nbsp\;&nbsp\;&nbsp\;&nbsp\;<br />\n<span style="font-size:14px"><span style="font-family:comic sans ms"><u>Main Course:</u>&nbsp\;Maryland Lump Crab Cakes<br />\n<u>Sweet Course:</u>&nbsp\;Homemade Peach Cobbler</span></span><br />\n&nbsp\;
LOCATION:Wild Coyote Estate Winery 3775 Adelaida Rd Paso Robles CA 93446
UID:e.2488.7937
SEQUENCE:3
DTSTAMP:20260421T200411Z
URL:https://business.pasorobleschamber.com/events/details/august-s-private-dinner-at-wild-coyote-estate-winery-7937
END:VEVENT

END:VCALENDAR
