BEGIN:VCALENDAR
VERSION:2.0
PRODID:-//ChamberMaster//Event Calendar 2.0//EN
METHOD:PUBLISH
X-PUBLISHED-TTL:P3D
REFRESH-INTERVAL:P3D
CALSCALE:GREGORIAN
BEGIN:VEVENT
DTSTART;VALUE=DATE:20260503
DTEND;VALUE=DATE:20260504
TRANSP:TRANSPARENT
X-MICROSOFT-CDO-ALLDAYEVENT:TRUE
SUMMARY:BarrelHouse: Taco Truck Throwdown
DESCRIPTION:Turn up the flavor and the volume at our Cinco de Mayo Taco Truck Throw Down at BarrelHouse Brewing Co in Paso Robles. Three of the area's best taco trucks go head-to-head while you eat your way through the competition\, cast your vote\, and help crown the champion. Your $25 ticket gets you one taco from each truck\, a complimentary festive beer\, and full access to live music in the backyard featuring Los Halcones de Paso Robles from 12 to 2 PM and Autorizado from 3 to 6 PM. Additional food and drinks will be available for purchase\, so come hungry and stay awhile. Good people. Good times. And a whole lot of tacos!
X-ALT-DESC;FMTTYPE=text/html:Turn up the flavor and the volume at our Cinco de Mayo Taco Truck Throw Down at BarrelHouse Brewing Co in Paso Robles. Three of the area&rsquo\;s best taco trucks go head-to-head while you eat your way through the competition\, cast your vote\, and help crown the champion. Your $25 ticket gets you one taco from each truck\, a complimentary festive beer\, and full access to live music in the backyard featuring Los Halcones de Paso Robles from 12 to 2 PM and Autorizado from 3 to 6 PM. Additional food and drinks will be available for purchase\, so come hungry and stay awhile. Good people. Good times. And a whole lot of tacos!
LOCATION:BarrelHouse Brewing Co. 3055 Limestone Way Paso Robles\, Ca 93446
UID:e.2488.20109
SEQUENCE:3
DTSTAMP:20260422T215247Z
URL:https://business.pasorobleschamber.com/events/details/barrelhouse-taco-truck-throwdown-20109
END:VEVENT

END:VCALENDAR
