BEGIN:VCALENDAR
VERSION:2.0
PRODID:-//ChamberMaster//Event Calendar 2.0//EN
METHOD:PUBLISH
X-PUBLISHED-TTL:P3D
REFRESH-INTERVAL:P3D
CALSCALE:GREGORIAN
BEGIN:VEVENT
DTSTART:20180624T200000Z
DTEND:20180624T230000Z
X-MICROSOFT-CDO-ALLDAYEVENT:FALSE
SUMMARY:Bear Market Riot LIVE
DESCRIPTION:Please come join us for free live music from 1-4pm\, food available for purchase from 11am-4pm\, wine tasting from 11am-4:45pm. Check out the MENU!\n\nhttp://www.bearmarketriot.com/
X-ALT-DESC;FMTTYPE=text/html:<p>Please come join us for free live music from 1-4pm\, food available for purchase from 11am-4pm\, wine tasting from 11am-4:45pm. Check out the&nbsp\;<a href="http://www.villasanjuliette.com/tasting-tours/small-bites/" style="box-sizing: inherit\; background-color: transparent\; color: rgb(3\, 155\, 229)\; text-decoration-line: none\; -webkit-tap-highlight-color: transparent\;">MENU</a>!</p>\n\n<p><a href="http://www.bearmarketriot.com/" style="box-sizing: inherit\; background-color: transparent\; color: rgb(3\, 155\, 229)\; text-decoration-line: none\; -webkit-tap-highlight-color: transparent\;" target="_blank">http://www.bearmarketriot.com/</a></p>\n
LOCATION:Villa San Juliette Winery 6385 Cross Canyons Rd San Miguel CALIFORNIA 9345
UID:e.2488.8094
SEQUENCE:3
DTSTAMP:20260421T175446Z
URL:https://business.pasorobleschamber.com/events/details/bear-market-riot-live-06-24-2018-8094
END:VEVENT

END:VCALENDAR
