BEGIN:VCALENDAR
VERSION:2.0
PRODID:-//ChamberMaster//Event Calendar 2.0//EN
METHOD:PUBLISH
X-PUBLISHED-TTL:P3D
REFRESH-INTERVAL:P3D
CALSCALE:GREGORIAN
BEGIN:VEVENT
DTSTART:20181020T200000Z
DTEND:20181020T230000Z
X-MICROSOFT-CDO-ALLDAYEVENT:FALSE
SUMMARY:Bear Market Riot LIVE
DESCRIPTION:Please come join us for free live music from 1-4pm\, food available for purchase from 11am-4pm\, wine tasting from 11am-4:45pm. Check out the MENU!\n\n\n \n\nhttp://www.bearmarketriot.com/
X-ALT-DESC;FMTTYPE=text/html:<div>Please come join us for free live music from 1-4pm\, food available for purchase from 11am-4pm\, wine tasting from 11am-4:45pm. Check out the&nbsp\;<a href="http://www.villasanjuliette.com/tasting-tours/small-bites/" style="background-color: transparent\; box-sizing: inherit\; color: rgb(3\, 155\, 229)\; text-decoration-line: none\; -webkit-tap-highlight-color: transparent\;">MENU</a>!</div>\n\n<div>\n<div>&nbsp\;</div>\n\n<div><a href="http://www.bearmarketriot.com/" style="box-sizing: inherit\; background-color: transparent\; color: rgb(3\, 155\, 229)\; text-decoration-line: none\; -webkit-tap-highlight-color: transparent\;" target="_blank"><span style="color:rgba(0\, 0\, 0\, 0.87)">http://www.bearmarketriot.com/</span></a></div>\n</div>\n
LOCATION:Villa San-Juliette Winery 6385 Cross Canyons Rd San Miguel CALIFORNIA 93451
UID:e.2488.8108
SEQUENCE:3
DTSTAMP:20260421T085331Z
URL:https://business.pasorobleschamber.com/events/details/bear-market-riot-live-10-20-2018-8108
END:VEVENT

END:VCALENDAR
