BEGIN:VCALENDAR
VERSION:2.0
PRODID:-//ChamberMaster//Event Calendar 2.0//EN
METHOD:PUBLISH
X-PUBLISHED-TTL:P3D
REFRESH-INTERVAL:P3D
CALSCALE:GREGORIAN
BEGIN:VEVENT
DTSTART:20160310T020000Z
DTEND:20160310T033000Z
X-MICROSOFT-CDO-ALLDAYEVENT:FALSE
SUMMARY:Big Brothers Big Sisters Volunteer Training
DESCRIPTION:Class prepares interested ?Bigs\," or volunteer youth mentors\, for a fun and easy way to give back to the community in just 6 hours each month spending time with a local child doing things they both enjoy.
X-ALT-DESC;FMTTYPE=text/html:Class prepares interested ?Bigs\,&quot\; or volunteer youth mentors\, for a fun and easy way to give back to the community in just 6 hours each month spending time with a local child doing things they both enjoy.
LOCATION:142 Cross St.\, Ste. 140 San Luis Obispo\, CA
UID:e.2488.4623
SEQUENCE:3
DTSTAMP:20260424T210512Z
URL:https://business.pasorobleschamber.com/events/details/big-brothers-big-sisters-volunteer-training-03-09-2016-4623
END:VEVENT

END:VCALENDAR
