BEGIN:VCALENDAR
VERSION:2.0
PRODID:-//ChamberMaster//Event Calendar 2.0//EN
METHOD:PUBLISH
X-PUBLISHED-TTL:P3D
REFRESH-INTERVAL:P3D
CALSCALE:GREGORIAN
BEGIN:VEVENT
DTSTART;VALUE=DATE:20170506
DTEND;VALUE=DATE:20170525
TRANSP:TRANSPARENT
X-MICROSOFT-CDO-ALLDAYEVENT:TRUE
SUMMARY:Big Brothers Big Sisters Volunteer Training
DESCRIPTION:Serving as a volunteer youth mentor or "Big\," is a fun and easy way to give back to the community in just 6 hours a month for at least one year. The commitment involves forming a meaningful relationship with a child\, or "Little\," in your region who is facing adversity and has requested support. Big and Little are strategically matched and professionally supported throughout the length of their relationship by agency staff. These one-to-one mentor relationships serve to change children's life for the better\, forever! Please visit: www.slobigs.org or call: 805-781-3226 for more information.
X-ALT-DESC;FMTTYPE=text/html:Serving as a volunteer youth mentor or &quot\;Big\,&quot\; is a fun and easy way to give back to the community in just 6 hours a month for at least one year. The commitment involves forming a meaningful relationship with a child\, or &quot\;Little\,&quot\; in your region who is facing adversity and has requested support. Big and Little are strategically matched and professionally supported throughout the length of their relationship by agency staff. These one-to-one mentor relationships serve to&nbsp\;change children&#39\;s life for the better\, forever! Please visit: www.slobigs.org or call: 805-781-3226 for more information.
LOCATION:142 Cross St.\, Ste. 140\, San Luis Obispo CA
UID:e.2488.6429
SEQUENCE:3
DTSTAMP:20260423T172219Z
URL:https://business.pasorobleschamber.com/events/details/big-brothers-big-sisters-volunteer-training-05-06-2017-6429
END:VEVENT

END:VCALENDAR
