BEGIN:VCALENDAR
VERSION:2.0
PRODID:-//ChamberMaster//Event Calendar 2.0//EN
METHOD:PUBLISH
X-PUBLISHED-TTL:P3D
REFRESH-INTERVAL:P3D
CALSCALE:GREGORIAN
BEGIN:VEVENT
DTSTART:20160616T010000Z
DTEND:20160616T023000Z
X-MICROSOFT-CDO-ALLDAYEVENT:FALSE
SUMMARY:Big Brothers Big Sisters Volunteer Training
DESCRIPTION:Class prepares interested "Bigs\," or volunteer youth mentors\, for a fun and easy way to give back to the community in just 6 hours each month spending time with a local child doing things they both enjoy.
X-ALT-DESC;FMTTYPE=text/html:Class prepares interested &ldquo\;Bigs\,&quot\; or volunteer youth mentors\, for a fun and easy way to give back to the community in just 6 hours each month spending time with a local child doing things they both enjoy.
LOCATION:Big Brothers Big Sisters SLO Office\; 142 Cross Street\, Suite 140\, San Luis Obispo\, 93401
UID:e.2488.4772
SEQUENCE:3
DTSTAMP:20260424T155631Z
URL:https://business.pasorobleschamber.com/events/details/big-brothers-big-sisters-volunteer-training-06-15-2016-4772
END:VEVENT

END:VCALENDAR
