BEGIN:VCALENDAR
VERSION:2.0
PRODID:-//ChamberMaster//Event Calendar 2.0//EN
METHOD:PUBLISH
X-PUBLISHED-TTL:P3D
REFRESH-INTERVAL:P3D
CALSCALE:GREGORIAN
BEGIN:VEVENT
DTSTART:20160709T180000Z
DTEND:20160709T193000Z
X-MICROSOFT-CDO-ALLDAYEVENT:FALSE
SUMMARY:Big Brothers Big Sisters Volunteer Training
DESCRIPTION:Training prepares interested "Bigs\," or volunteer youth mentors\, for a fun and easy way to give back to the community in just 6 hours each month by spending time with a local child who has requested a mentor. Please call or e-mail to R.S.V.P.
X-ALT-DESC;FMTTYPE=text/html:Training prepares interested &ldquo\;Bigs\,&quot\; or volunteer youth mentors\, for a fun and easy way to give back to the community in just 6 hours each month by spending time with a local child who has requested a mentor. Please call or e-mail to R.S.V.P.
LOCATION:142 Cross St.\, Ste. 140
UID:e.2488.4786
SEQUENCE:3
DTSTAMP:20260424T160005Z
URL:https://business.pasorobleschamber.com/events/details/big-brothers-big-sisters-volunteer-training-07-09-2016-4786
END:VEVENT

END:VCALENDAR
