BEGIN:VCALENDAR
VERSION:2.0
PRODID:-//ChamberMaster//Event Calendar 2.0//EN
METHOD:PUBLISH
X-PUBLISHED-TTL:P3D
REFRESH-INTERVAL:P3D
CALSCALE:GREGORIAN
BEGIN:VEVENT
DTSTART:20161201T020000Z
DTEND:20161201T033000Z
X-MICROSOFT-CDO-ALLDAYEVENT:FALSE
SUMMARY:Big Brothers Big Sisters Volunteer Training
DESCRIPTION:Upcoming Volunteer Trainings: Wednesday\, November 30th from 6 p.m. to 7:30 p.m. The training prepares interested "Bigs\," or volunteer youth mentors\, for a fun and easy way to give back to the community in just 6 hours each month spending time with a local child doing things they both enjoy. Please call: show contact info to RSVP (required) Visit: www.slobigs.org for more information.
X-ALT-DESC;FMTTYPE=text/html:Upcoming Volunteer Trainings: Wednesday\, November 30th from 6 p.m. to 7:30 p.m. The training prepares interested &quot\;Bigs\,&quot\; or volunteer youth mentors\, for a fun and easy way to give back to the community in just 6 hours each month spending time with a local child doing things they both enjoy. Please call: show contact info to RSVP (required) Visit: www.slobigs.org for more information.
LOCATION:Big Brothers Big Sisters 142 Cross Street Suite 140 San Luis Obispo\, CA 93401
UID:e.2488.5643
SEQUENCE:3
DTSTAMP:20260424T044042Z
URL:https://business.pasorobleschamber.com/events/details/big-brothers-big-sisters-volunteer-training-11-30-2016-5643
END:VEVENT

END:VCALENDAR
