BEGIN:VCALENDAR
VERSION:2.0
PRODID:-//ChamberMaster//Event Calendar 2.0//EN
METHOD:PUBLISH
X-PUBLISHED-TTL:P3D
REFRESH-INTERVAL:P3D
CALSCALE:GREGORIAN
BEGIN:VEVENT
DTSTART:20170519T140000Z
DTEND:20170519T160000Z
X-MICROSOFT-CDO-ALLDAYEVENT:FALSE
SUMMARY:Bike to Work Day
DESCRIPTION:Friday\, May 19th is National Bike to Work Day! Be a part of the biggest day in May and help demonstrate what SLO County is capable of when we all make an effort to reduce congestion\, improve our health\, save money and commute smart. Visit your Bike to Work Day Station at Scientific Drilling on Rollie Gates Drive for free breakfast and giveaways. Group ride from Barney Schwartz Park.
X-ALT-DESC;FMTTYPE=text/html:Friday\, May 19th is National Bike to Work Day! Be a part of the biggest day in May and help demonstrate what SLO County is capable of when we all make an effort to reduce congestion\, improve our health\, save money and commute smart. Visit your Bike to Work Day Station at Scientific Drilling on Rollie Gates Drive for free breakfast and giveaways. Group ride from Barney Schwartz Park.
LOCATION:Scientific Drilling Breakfast Station Group ride from Barney Schwartz Park
UID:e.2488.6405
SEQUENCE:3
DTSTAMP:20260423T200739Z
URL:https://business.pasorobleschamber.com/events/details/bike-to-work-day-6405
END:VEVENT

END:VCALENDAR
