BEGIN:VCALENDAR
VERSION:2.0
PRODID:-//ChamberMaster//Event Calendar 2.0//EN
METHOD:PUBLISH
X-PUBLISHED-TTL:P3D
REFRESH-INTERVAL:P3D
CALSCALE:GREGORIAN
BEGIN:VEVENT
DTSTART:20161125T170000Z
DTEND:20161126T000000Z
X-MICROSOFT-CDO-ALLDAYEVENT:FALSE
SUMMARY:Black Friday Foodie Extravaganza
DESCRIPTION:It's no secret that Le Vigne Winery is home to one of Paso Robles' most extensive selections of domestic and imported cheeses\, gourmet foods and fabulous estate fine wines.  Make the most of the merriest season by stocking up on delectable goodies to enjoy with friends and family!  The tasting room at Le Vigne Winery is the perfect place to find everything you need for holiday gatherings.\n\nOur annual Black Friday Food Carnival is a great opportunity to sample the delicious gourmet foods we have available in our tasting room\, many available nowhere else but here\, and some that can be found no other time of year than now!  Try our local cheeses\, international cheeses\, sauces\, pasta\, desserts and more!  Meet the owner of Paso Robles Preserves and try the many flavors of locally sourced\, artisanal jams\, jellies\, and seasonings lovingly handcrafted with original recipes in small batches. Franklin & Co. Artisanal Pickled Goods will be here with samples of their amazing small-batch pickles\, made right here in Paso Robles!\n\nThere is no entry fee to this event\, taking place in our tank room.  Gourmet flights will not be available in the tasting room during this event.  Our reserve flight will still be available\, so you can find the perfect wine for any occasion.  Or you can delight in a mimosa while you puruse our extensive selection of holiday goodies.\n\nAll weekend long we will be announcing wine sales at unbeatable prices.  Be sure to check your email for these amazing deals and stock up for all of your festivities!
X-ALT-DESC;FMTTYPE=text/html:<p style="text-align:center">It&#39\;s no secret that Le Vigne Winery is home to one of Paso Robles&#39\; most extensive selections of domestic and imported cheeses\, gourmet foods and fabulous estate fine wines. &nbsp\;Make the most of the merriest season by stocking up on delectable goodies to enjoy with friends and family! &nbsp\;The tasting room at Le Vigne Winery is the perfect place to find everything you need for holiday gatherings.</p>\n\n<p style="text-align:center">Our annual Black Friday Food Carnival is a great opportunity to sample the delicious gourmet foods we have available in our tasting room\, many available nowhere else but here\, and some that can be found no other time of year than now! &nbsp\;Try our local cheeses\, international cheeses\, sauces\, pasta\, desserts and more! &nbsp\;Meet the owner of Paso Robles Preserves and try the many flavors of locally sourced\, artisanal jams\, jellies\, and seasonings lovingly handcrafted with original recipes in small batches. Franklin &amp\; Co. Artisanal Pickled Goods will be here with samples of their amazing small-batch pickles\, made right here in Paso Robles!</p>\n\n<p style="text-align:center">There is no entry fee to this event\, taking place in our tank room. &nbsp\;Gourmet flights will not be available in the tasting room during this event. &nbsp\;Our reserve flight will still be available\, so you can find the perfect wine for any occasion. &nbsp\;Or you can delight in a mimosa while you puruse our extensive selection of holiday goodies.</p>\n\n<p style="text-align:center">All weekend long we will be announcing wine sales at unbeatable prices. &nbsp\;Be sure to check your email for these amazing deals and stock up for all of your festivities!</p>\n
LOCATION:Le Vigne Winery 5115 Buena Vista Dr. Paso Robles\, CA 93446
UID:e.2488.5651
SEQUENCE:3
DTSTAMP:20260424T043730Z
URL:https://business.pasorobleschamber.com/events/details/black-friday-foodie-extravaganza-5651
END:VEVENT

END:VCALENDAR
