BEGIN:VCALENDAR
VERSION:2.0
PRODID:-//ChamberMaster//Event Calendar 2.0//EN
METHOD:PUBLISH
X-PUBLISHED-TTL:P3D
REFRESH-INTERVAL:P3D
CALSCALE:GREGORIAN
BEGIN:VEVENT
DTSTART:20160219T210000Z
DTEND:20160222T023000Z
X-MICROSOFT-CDO-ALLDAYEVENT:FALSE
SUMMARY:BlendFest on the Coast
DESCRIPTION:BlendFest is back\, this time behind the locked gates of the Hearst Property in Old San Simeon Village! Join Mitchella and 29 other renowned wineries of Paso Robles on the coast\, each showcasing three distinct blends. Guests will enjoy spectacular wines\, and stunning ocean views. Afternoon Tasting: 1 - 3 p.m Sunset Tasting: 4 - 6:30 p.m Stay in Cambria or San Simeon and SAVE $10+ on each ticket to Saturday's event. The weekend kicks off Friday night with a Winemaker Dinner at Centrally Grown in Cambria. After tasting blends at Saturday's Grand Tasting\, try your hand at blending wine during Sunday's Blending Seminar at Harmony Cellars. It's a full weekend of fun in store! Tickets are limited for each event\, so get yours today! Early Bird pricing ends December 14\, 2015. For more information and tickets visit http://www.pasowine.com/events/blend-fest.php
X-ALT-DESC;FMTTYPE=text/html:BlendFest is back\, this time behind the locked gates of the Hearst Property in Old San Simeon Village! Join Mitchella and 29 other renowned wineries of Paso Robles on the coast\, each showcasing three distinct blends. Guests will enjoy spectacular wines\, and stunning ocean views. Afternoon Tasting: 1 - 3 p.m Sunset Tasting: 4 - 6:30 p.m Stay in Cambria or San Simeon and SAVE $10+ on each ticket to Saturday&#39\;s event. The weekend kicks off Friday night with a Winemaker Dinner at Centrally Grown in Cambria. After tasting blends at Saturday&#39\;s Grand Tasting\, try your hand at blending wine during Sunday&#39\;s Blending Seminar at Harmony Cellars. It&#39\;s a full weekend of fun in store! Tickets are limited for each event\, so get yours today! Early Bird pricing ends December 14\, 2015. For more information and tickets visit http://www.pasowine.com/events/blend-fest.php
LOCATION:Slo San Simeon Rd\, San Simeon\, CA 93452 Hearst Property in Old San Simeon
UID:e.2488.4472
SEQUENCE:3
DTSTAMP:20260424T205515Z
URL:https://business.pasorobleschamber.com/events/details/blendfest-on-the-coast-02-19-2016-4472
END:VEVENT

END:VCALENDAR
