BEGIN:VCALENDAR
VERSION:2.0
PRODID:-//ChamberMaster//Event Calendar 2.0//EN
METHOD:PUBLISH
X-PUBLISHED-TTL:P3D
REFRESH-INTERVAL:P3D
CALSCALE:GREGORIAN
BEGIN:VEVENT
DTSTART:20260530T203000Z
DTEND:20260530T213000Z
X-MICROSOFT-CDO-ALLDAYEVENT:FALSE
SUMMARY:Block Printing Basics with Lego
DESCRIPTION:Fun\, engaging workshop where you will learn the basics of block printing while creating your own one-of-a-kind artwork! This is a beginner class for ages 8 and up\, using brick building blocks to create your unique patterns.
X-ALT-DESC;FMTTYPE=text/html:Fun\, engaging workshop where you will learn the basics of block printing while creating your own one-of-a-kind artwork! This is a beginner class for ages 8 and up\, using brick building blocks to create your unique patterns.
LOCATION:Studios on the Park 1130 Pine St Paso Robles
UID:e.2488.20102
SEQUENCE:3
DTSTAMP:20260421T014120Z
URL:https://business.pasorobleschamber.com/events/details/block-printing-basics-with-lego-20102
END:VEVENT

END:VCALENDAR
