BEGIN:VCALENDAR
VERSION:2.0
PRODID:-//ChamberMaster//Event Calendar 2.0//EN
METHOD:PUBLISH
X-PUBLISHED-TTL:P3D
REFRESH-INTERVAL:P3D
CALSCALE:GREGORIAN
BEGIN:VEVENT
DTSTART:20180825T180000Z
DTEND:20180826T000000Z
X-MICROSOFT-CDO-ALLDAYEVENT:FALSE
SUMMARY:Blue Oak Apartment Homes Grand Opening
DESCRIPTION:Come join us! Grand Opening Event! Giveaways! Leasing Specials! Food! Bounce House! Drinks! Music!
X-ALT-DESC;FMTTYPE=text/html:Come join us! Grand Opening Event! Giveaways! Leasing Specials! Food! Bounce House! Drinks! Music!
LOCATION:710 Experimental Station Road Paso Robles\, CA 93446
UID:e.2488.9515
SEQUENCE:3
DTSTAMP:20260421T164652Z
URL:https://business.pasorobleschamber.com/events/details/blue-oak-apartment-homes-grand-opening-9515
END:VEVENT

END:VCALENDAR
