BEGIN:VCALENDAR
VERSION:2.0
PRODID:-//ChamberMaster//Event Calendar 2.0//EN
METHOD:PUBLISH
X-PUBLISHED-TTL:P3D
REFRESH-INTERVAL:P3D
CALSCALE:GREGORIAN
BEGIN:VEVENT
DTSTART:20161023T210000Z
DTEND:20161024T000000Z
X-MICROSOFT-CDO-ALLDAYEVENT:FALSE
SUMMARY:Boogie on the Bluff
DESCRIPTION:SeaCrest Oceanfront Hotel presents Boogie on the Bluff benefiting United Way SLO County! We hope you enjoy this fun filled afternoon with live music. Tickets for purchase: http://www.unitedwayslo.org/boogie-bluff
X-ALT-DESC;FMTTYPE=text/html:SeaCrest Oceanfront Hotel presents Boogie on the Bluff benefiting United Way SLO County! We hope you enjoy this fun filled afternoon with live music. Tickets for purchase: http://www.unitedwayslo.org/boogie-bluff
LOCATION:Seacrest Oceanfront Hotel: 2241 Price Street\, Pismo Beach CA
UID:e.2488.4808
SEQUENCE:3
DTSTAMP:20260424T060223Z
URL:https://business.pasorobleschamber.com/events/details/boogie-on-the-bluff-10-23-2016-4808
END:VEVENT

END:VCALENDAR
