BEGIN:VCALENDAR
VERSION:2.0
PRODID:-//ChamberMaster//Event Calendar 2.0//EN
METHOD:PUBLISH
X-PUBLISHED-TTL:P3D
REFRESH-INTERVAL:P3D
CALSCALE:GREGORIAN
BEGIN:VEVENT
DTSTART:20180101T050000Z
DTEND:20180101T075500Z
X-MICROSOFT-CDO-ALLDAYEVENT:FALSE
SUMMARY:Bring in the New Year at Allegretto!
DESCRIPTION:Celebrate at Allegretto Vineyard Resort's New Year's Eve Celebration.\n\nStart the New Year with dancing\, drinks and live music by the Martin Paris Band while surrounded by the Joy of Allegretto!
X-ALT-DESC;FMTTYPE=text/html:Celebrate at Allegretto Vineyard Resort&#39\;s New Year&#39\;s Eve Celebration.<br />\nStart the New Year with dancing\, drinks and live music by the Martin Paris Band while surrounded by the Joy of Allegretto!<br />\n<br />\n&nbsp\;
LOCATION:Allegretto Vineyard Resort 2700 Buena Vista Drive Paso Robles\, CA 93446
UID:e.2488.6868
SEQUENCE:3
DTSTAMP:20260422T083744Z
URL:https://business.pasorobleschamber.com/events/details/bring-in-the-new-year-at-allegretto-6868
END:VEVENT

END:VCALENDAR
