BEGIN:VCALENDAR
VERSION:2.0
PRODID:-//ChamberMaster//Event Calendar 2.0//EN
METHOD:PUBLISH
X-PUBLISHED-TTL:P3D
REFRESH-INTERVAL:P3D
CALSCALE:GREGORIAN
BEGIN:VEVENT
DTSTART:20181020T160000Z
DTEND:20181020T190000Z
X-MICROSOFT-CDO-ALLDAYEVENT:FALSE
SUMMARY:Brookdale Health Fair & Car Show
DESCRIPTION:Feed all your dimensions of health and wellness Learn from local experts Receive FREE health screenings! Live Music! Also Enjoy  Classic Car Show Presented by Golden State Classics Car Club
X-ALT-DESC;FMTTYPE=text/html:Feed all your dimensions of health and wellness Learn from local experts Receive FREE health screenings! Live Music! Also Enjoy&hellip\; Classic Car Show Presented by Golden State Classics Car Club
LOCATION:1919 Creston Road. Paso Robles\, CA 93446
UID:e.2488.9507
SEQUENCE:3
DTSTAMP:20260421T105412Z
URL:https://business.pasorobleschamber.com/events/details/brookdale-health-fair-car-show-9507
END:VEVENT

END:VCALENDAR
