BEGIN:VCALENDAR
VERSION:2.0
PRODID:-//ChamberMaster//Event Calendar 2.0//EN
METHOD:PUBLISH
X-PUBLISHED-TTL:P3D
REFRESH-INTERVAL:P3D
CALSCALE:GREGORIAN
BEGIN:VEVENT
DTSTART;VALUE=DATE:20180520
DTEND;VALUE=DATE:20180521
TRANSP:TRANSPARENT
X-MICROSOFT-CDO-ALLDAYEVENT:TRUE
SUMMARY:Brunch Bites\, Music by Jill Knight & Wine
DESCRIPTION:Kick off Winefest Weekend with us at our new tasting room at our Winery in Paso Robles! Join us for live music by Jill Knight\, Hearst Ranch wine and brunch bites by Chef Matt Beckett of Linn's. Tickets include brunch bites and a wine pairing. Too full for brunch? Join us anyway for a wine tasting!
X-ALT-DESC;FMTTYPE=text/html:<p><span style="color:rgb(78\, 78\, 78)\; font-family:cardo-regular\,sans-serif\; font-size:16px">Kick off Winefest Weekend with us at our new tasting room at our Winery in Paso Robles! Join us for live music by Jill Knight\, Hearst Ranch wine and brunch bites by Chef Matt Beckett of Linn&#39\;s. Tickets include brunch bites and a wine pairing. Too full for brunch? Join us anyway for a wine tasting!&nbsp\;</span></p>\n\n<p>&nbsp\;</p>\n
LOCATION:Hearst Ranch Winery Tasting Room @ the Winery in Paso Robles 7300 North River Road\, Paso Robles\, CA 93446
UID:e.2488.8086
SEQUENCE:3
DTSTAMP:20260421T220044Z
URL:https://business.pasorobleschamber.com/events/details/brunch-bites-music-by-jill-knight-wine-8086
END:VEVENT

END:VCALENDAR
