BEGIN:VCALENDAR
VERSION:2.0
PRODID:-//ChamberMaster//Event Calendar 2.0//EN
METHOD:PUBLISH
X-PUBLISHED-TTL:P3D
REFRESH-INTERVAL:P3D
CALSCALE:GREGORIAN
BEGIN:VEVENT
DTSTART:20170910T003000Z
DTEND:20170910T033000Z
X-MICROSOFT-CDO-ALLDAYEVENT:FALSE
SUMMARY:Burning James & the Funky Flames at Riverstar Vineyards
DESCRIPTION:"Burning James & the Funky Flames" are playing a FREE concert live at Riverstar Vineyards on Saturday\, September 9th from 5:30-8:30 pm. Bring a blanket or lawn chair and your favorite dancing partner! They will surely have you up on your feet with their funky\, soulful\, groovy sound! Choco's Mexican Grill will be onsite serving up fresh food and Riverstar wine will be available by the glass or bottle. All are welcome- children and dogs on leash\, too! No outside alcohol.
X-ALT-DESC;FMTTYPE=text/html:&quot\;Burning James &amp\; the Funky Flames&quot\; are playing a FREE concert live at Riverstar Vineyards on Saturday\, September 9th from 5:30-8:30 pm. Bring a blanket or lawn chair and your favorite dancing partner! They will surely have you up on your feet with their funky\, soulful\, groovy sound! Choco&#39\;s Mexican Grill will be onsite serving up fresh food and Riverstar wine will be available by the glass or bottle. All are welcome- children and dogs on leash\, too! No outside alcohol.
LOCATION:Riverstar Vineyards 7450 Estrella Road San Miguel\, CA 93451
UID:e.2488.6551
SEQUENCE:3
DTSTAMP:20260423T081303Z
URL:https://business.pasorobleschamber.com/events/details/burning-james-the-funky-flames-at-riverstar-vineyards-6551
END:VEVENT

END:VCALENDAR
