BEGIN:VCALENDAR
VERSION:2.0
PRODID:-//ChamberMaster//Event Calendar 2.0//EN
METHOD:PUBLISH
X-PUBLISHED-TTL:P3D
REFRESH-INTERVAL:P3D
CALSCALE:GREGORIAN
BEGIN:VEVENT
DTSTART:20170527T180000Z
DTEND:20170528T000000Z
X-MICROSOFT-CDO-ALLDAYEVENT:FALSE
SUMMARY:California Festival of Beers
DESCRIPTION:The 31st annual California Festival of Beers takes place during Memorial Day Weekend at Madonna Inn Meadows in San Luis Obispo. Attendees will enjoy beer sampling\, food\, live music\, retail and food vendors and interactive games during the Grand Tasting event. Purchase your tickets now at www.californiafestivalofbeers.com The Festival is a benefit event managed and produced by Hospice of San Luis Obispo County (Hospice SLO County)\, a non-profit grief counseling organization\, and receives 100% of the proceeds. As the only volunteer hospice in the county\, Hospice SLO County does not bill any insurance\, clients or their families and all services are provided without charge.
X-ALT-DESC;FMTTYPE=text/html:The 31st annual California Festival of Beers takes place during Memorial Day Weekend at Madonna Inn Meadows in San Luis Obispo. Attendees will enjoy beer sampling\, food\, live music\, retail and food vendors and interactive games during the Grand Tasting event. Purchase your tickets now at www.californiafestivalofbeers.com The Festival is a benefit event managed and produced by Hospice of San Luis Obispo County (Hospice SLO County)\, a non-profit grief counseling organization\, and receives 100% of the proceeds. As the only volunteer hospice in the county\, Hospice SLO County does not bill any insurance\, clients or their families and all services are provided without charge.
LOCATION:Madonna Meadows San Luis Obispo
UID:e.2488.6075
SEQUENCE:3
DTSTAMP:20260423T174357Z
URL:https://business.pasorobleschamber.com/events/details/california-festival-of-beers-6075
END:VEVENT

END:VCALENDAR
