BEGIN:VCALENDAR
VERSION:2.0
PRODID:-//ChamberMaster//Event Calendar 2.0//EN
METHOD:PUBLISH
X-PUBLISHED-TTL:P3D
REFRESH-INTERVAL:P3D
CALSCALE:GREGORIAN
BEGIN:VEVENT
DTSTART:20161120T010000Z
DTEND:20161120T050000Z
X-MICROSOFT-CDO-ALLDAYEVENT:FALSE
SUMMARY:Cantinas Fire Fundraiser at Cantinas On Park
DESCRIPTION:CANTINAS FIRE FUNDRAISER   \n\nPlease join us for an evening to honor our\n\nSLO COUNTY FIREFIGHTERS \n\nWe will be serving dinner and wine from local businesses \n\nand providing live music from acclaimed singer-songwriters.\n\n \n\nALL proceeds from this event will benefit the  \n\nSan Luis Obispo County Firefighters Benevolent Association\n\nhttps://readymag.com/cantinas/612925/
X-ALT-DESC;FMTTYPE=text/html:<p style="text-align:center"><span style="font-family:vcsm">CANTINAS FIRE FUNDRAISER &nbsp\;</span>&nbsp\;</p>\n\n<p style="text-align:center"><span style="font-family:vcsm">Please join us for an evening to honor&nbsp\;</span><span style="font-family:vcsm">our</span></p>\n\n<p style="text-align:center"><span style="font-family:vcsm">SLO COUNTY FIREFIGHTERS&nbsp\;</span></p>\n\n<p style="text-align:center"><span style="font-family:vcsm">We will be serving dinner and wine&nbsp\;</span><span style="font-family:vcsm">from local businesses&nbsp\;</span></p>\n\n<p style="text-align:center"><span style="font-family:vcsm">and providing live music from acclaimed&nbsp\;</span><span style="font-family:vcsm">singer-songwriters.</span></p>\n\n<p style="text-align:center"><span style="font-family:vcsm">&nbsp\;</span></p>\n\n<p style="text-align:center"><span style="font-family:vcsm">ALL proceeds from this event will benefit the &nbsp\;</span></p>\n\n<p style="text-align:center"><span style="font-family:vcsm">San Luis Obispo County&nbsp\;Firefighters Benevolent Association</span><br />\nhttps://readymag.com/cantinas/612925/</p>\n
LOCATION:Cantinas On Park 1242 Park St. Paso Robles\, CA 93446 805.674.4804
UID:e.2488.5640
SEQUENCE:3
DTSTAMP:20260424T060701Z
URL:https://business.pasorobleschamber.com/events/details/cantinas-fire-fundraiser-at-cantinas-on-park-5640
END:VEVENT

END:VCALENDAR
