BEGIN:VCALENDAR
VERSION:2.0
PRODID:-//ChamberMaster//Event Calendar 2.0//EN
METHOD:PUBLISH
X-PUBLISHED-TTL:P3D
REFRESH-INTERVAL:P3D
CALSCALE:GREGORIAN
BEGIN:VEVENT
DTSTART:20170907T210000Z
DTEND:20170907T223000Z
X-MICROSOFT-CDO-ALLDAYEVENT:FALSE
SUMMARY:Caring For Life: Surviving and Thriving as a Family Caregiver
DESCRIPTION:Caring For Life is a free 6-Session Caregiver Education and Support Course beginning on Thursday\, September 7 from 2:00 pm - 3:30 pm. This class provides you with tools and techniques to handle the everyday challenges of caring for a loved one\, including one with Alzheimer's\, other forms of dementia or cognitive impairment. Preregistration required. Please contact Hospice SLO County at 805-544-2266 or www.hospiceslo.org
X-ALT-DESC;FMTTYPE=text/html:Caring For Life is a free 6-Session Caregiver Education and Support Course beginning on Thursday\, September 7 from 2:00 pm - 3:30 pm. This class provides you with tools and techniques to handle the everyday challenges of caring for a loved one\, including one with Alzheimer&#39\;s\, other forms of dementia or cognitive impairment. Preregistration required. Please contact Hospice SLO County at 805-544-2266 or www.hospiceslo.org
LOCATION:Community Church of Atascadero\, 5850 Rosario Avenue\, Atascadero
UID:e.2488.6600
SEQUENCE:3
DTSTAMP:20260423T081831Z
URL:https://business.pasorobleschamber.com/events/details/caring-for-life-surviving-and-thriving-as-a-family-caregiver-6600
END:VEVENT

END:VCALENDAR
