BEGIN:VCALENDAR
VERSION:2.0
PRODID:-//ChamberMaster//Event Calendar 2.0//EN
METHOD:PUBLISH
X-PUBLISHED-TTL:P3D
REFRESH-INTERVAL:P3D
CALSCALE:GREGORIAN
BEGIN:VEVENT
DTSTART:20190117T023000Z
DTEND:20190117T043000Z
X-MICROSOFT-CDO-ALLDAYEVENT:FALSE
SUMMARY:Casino Royale at Brookdale!
DESCRIPTION:Bet on a sure thing! Come to Casino Knight. Mark your calendars for what is sure to be a great night of fun\, frivolity and lounge singers. Open to the public on Wednesday January 16th from 6:30 - 8:30 pm. All of our tables will be open and the awesome dealers will be ready to deal the night away! Have questions\, intimidated by a specific game? Don't be! Our dealers are fabulous teachers too! Try your luck at Blackjack\, Roulette\, Slot Machine or everyone's favorite\, Craps! We provide the funny money and the fun\, all in one night.
X-ALT-DESC;FMTTYPE=text/html:Bet on a sure thing! Come to Casino Knight. Mark your calendars for what is sure to be a great night of fun\, frivolity and lounge singers. Open to the public on Wednesday January 16th from 6:30 - 8:30 pm. All of our tables will be open and the awesome dealers will be ready to deal the night away! Have questions\, intimidated by a specific game? Don&#39\;t be! Our dealers are fabulous teachers too! Try your luck at Blackjack\, Roulette\, Slot Machine or everyone&#39\;s favorite\, Craps! We provide the funny money and the fun\, all in one night.
LOCATION:1919 Creston Road
UID:e.2488.9656
SEQUENCE:3
DTSTAMP:20260421T062246Z
URL:https://business.pasorobleschamber.com/events/details/casino-royale-at-brookdale-9656
END:VEVENT

END:VCALENDAR
