BEGIN:VCALENDAR
VERSION:2.0
PRODID:-//ChamberMaster//Event Calendar 2.0//EN
METHOD:PUBLISH
X-PUBLISHED-TTL:P3D
REFRESH-INTERVAL:P3D
CALSCALE:GREGORIAN
BEGIN:VEVENT
DTSTART:20181020T010000Z
DTEND:20181020T040000Z
X-MICROSOFT-CDO-ALLDAYEVENT:FALSE
SUMMARY:Pig Roast Winemaker Dinner @ Cass Winery
DESCRIPTION:Join us in celebration of harvest at the winery for a traditional pig roast dinner buffet. We love this picturesque time of year at Cass and we're ready to kick up our heels and enjoy live music by The Blimp Pilots. Put on your dancing boots (or flip flops like Ted!) and come take a spin around the dance floor.\n\nCass Estate Wines & coffee service included with dinner.\n\n\nMENU\n\n \n\nAppetizers\n\nAhi Poke \n\nChopped Ahi\, Creamy Soy & Sesame Dressing\, Green Onions\, Sprinkled Sesame Seeds\n\nTropical Fruit Skewers\n\nSkewered Pineapple\, Kiwi & Star Fruit\, Drizzled Blood-Orange Reduction\n\nBuffet\n\nIsland Slaw\n\nGreen\, Red & Napa Cabbage\, Carrots\, Onions\, Tropical Dressing\, Diced Pineapple\n\nHawaiian Macaroni Salad\n\nTossed Macaroni\, Peas\, Carrots\, Celery\, Creamy Citrus Dressing\, Toasted Coconut\n\nCoconut Rice  \n\nSilky White Rice Cooked in Coconut Milk\, Garden Green Onions\n\nWhole Roasted Pig  \n\nBasted in Tropical Fruit Juices\, Pineapple Glaze\n\nDessert\n\n\n\nLuau Cake  \n\nLayered Yellow Cake\, Topped with Pineapple & Vanilla Custard\, Shaved Coconut
X-ALT-DESC;FMTTYPE=text/html:<p>Join us in celebration of harvest at the winery for a traditional pig roast dinner buffet. We love this picturesque time of year at Cass and we&rsquo\;re ready to kick up our heels and enjoy live music by&nbsp\;<em>The Blimp Pilots</em>. Put on your dancing boots (or flip flops like Ted!) and come take a spin around the dance floor.</p>\n\n<p>Cass Estate Wines &amp\; coffee service included with dinner.</p>\n\n<hr />\n<p><strong>MENU</strong><br />\n&nbsp\;</p>\n\n<p><strong>Appetizers</strong></p>\n\n<p>Ahi Poke&nbsp\;<br />\n<em>Chopped Ahi\, Creamy Soy &amp\; Sesame Dressing\, Green Onions\, Sprinkled Sesame Seeds</em></p>\n\n<p>Tropical Fruit Skewers<br />\n<em>Skewered Pineapple\, Kiwi &amp\; Star Fruit\, Drizzled Blood-Orange Reduction</em></p>\n\n<p><strong>Buffet</strong></p>\n\n<p>Island Slaw<br />\n<em>Green\, Red &amp\; Napa Cabbage\, Carrots\, Onions\, Tropical Dressing\, Diced Pineapple</em></p>\n\n<p>Hawaiian Macaroni Salad<br />\n<em>Tossed Macaroni\, Peas\, Carrots\, Celery\, Creamy Citrus Dressing\, Toasted Coconut</em></p>\n\n<p>Coconut Rice&nbsp\;&nbsp\;<br />\n<em>Silky White Rice Cooked in Coconut Milk\, Garden Green Onions</em></p>\n\n<p>Whole Roasted Pig&nbsp\;&nbsp\;<br />\n<em>Basted in Tropical Fruit Juices\, Pineapple Glaze</em></p>\n\n<p><strong>Dessert</strong><br />\n<br />\nLuau Cake&nbsp\;&nbsp\;<br />\n<em>Layered Yellow Cake\, Topped with Pineapple &amp\; Vanilla Custard\, Shaved Coconut</em></p>\n
LOCATION:
UID:e.2488.4839
SEQUENCE:3
DTSTAMP:20260421T073757Z
URL:https://business.pasorobleschamber.com/events/details/cass-winery-harvest-festival-bbq-dinner-10-14-2016-4839
END:VEVENT

END:VCALENDAR
